BEGIN:VCALENDAR
VERSION:2.0
PRODID:-//League of Professional Theatre Women - ECPv4.2.7//NONSGML v1.0//EN
CALSCALE:GREGORIAN
METHOD:PUBLISH
X-WR-CALNAME:League of Professional Theatre Women
X-ORIGINAL-URL:https://archive.theatrewomen.org
X-WR-CALDESC:Events for League of Professional Theatre Women
BEGIN:VEVENT
DTSTART;TZID=America/New_York:20191003T190000
DTEND;TZID=America/New_York:20191006T173000
DTSTAMP:20260424T005437
CREATED:20190925T181137
LAST-MODIFIED:20190925T181137
UID:13916-1570129200-1570383000@archive.theatrewomen.org
SUMMARY:ALL ABOUT IMAGE/WE ARE THE ELITE
DESCRIPTION:A drama written in the present time\, taking place in New York City and other parts of the US\, All About Image/ We Are The Elite takes us on a journey of the people who make images. In the process of capturing and making images\, the characters explore their personal relationships\, while re-affirming their aesthetic principles. With attention to memory\, consciousness\, and place in time\, action occurs and re-occurs. Quiet and stillness are values.\nIn All About Image/ We are the Elite\, in monologues and dialogues\, revelations are within their grasp. Are they always in the process of creating something that is greater than what's on a page\, what's in the photo gallery\, and what's on the screen?\n\nMarcina Zaccaria’s All About Image/We Are The Elite\nDirected by Tony Tambasco\nPart of the New York International Fringe Festival\nat The Kraine Theater\, 85 E 4th St\, New York City on October 3 @ 7:00pm; October 4 @ 7:00pm; October 5 @ 5:15pm; October 6 @ 5:30pm\n\nFeaturing:\nDavid Arthur Bachrach *\nJ. Dolan Byrnes *\nFrances McGarry *\nJeff Burchfield *\nDon Carter *\nCatherine Luciani\nMilton Lyles II\nNana Ponceleon\nAkin Salawu\nLourdes Severny\nKelsey Shapira\nKaty Wilson\n\n* Appears courtesy of Actors' Equity Association
URL:https://archive.theatrewomen.org/event/all-about-imagewe-are-the-elite/
LOCATION:85 East 4th Street \, New York\, NY\, 10003\, United States
CATEGORIES:Member News & Events
ATTACH;FMTTYPE=image/jpeg:https://archive.theatrewomen.org/wp-content/uploads/2019/09/All-About-Image.jpg
END:VEVENT
END:VCALENDAR