BEGIN:VCALENDAR
VERSION:2.0
PRODID:-//League of Professional Theatre Women - ECPv4.2.7//NONSGML v1.0//EN
CALSCALE:GREGORIAN
METHOD:PUBLISH
X-WR-CALNAME:League of Professional Theatre Women
X-ORIGINAL-URL:http://archive.theatrewomen.org
X-WR-CALDESC:Events for League of Professional Theatre Women
BEGIN:VEVENT
DTSTART;TZID=America/New_York:20170708T200000
DTEND;TZID=America/New_York:20170708T220000
DTSTAMP:20260419T203442
CREATED:20170703T155923
LAST-MODIFIED:20170703T155923
UID:7517-1499544000-1499551200@archive.theatrewomen.org
SUMMARY:WORLD VIEWS: 2017 Musical Theater Lab at Prospect Theater Company
DESCRIPTION:From Georgia O'Keefe to Marc Chagall\, Faith Ringgold to René Magritte... Nine writing teams come together to create original short musicals inspired by works of visual art on display in NYC museums\, each of which offer a window into a unique\, imaginative world.\n\nwritten by\nJanet Allard & Niko Tsakalakos\nEllaRose Chary & Brandon James Gwinn\nSeth Christenfeld & James Ballard\nChristiana Cole & Rona Siddiqui\nAnton Dudley & Faye Chiao\nEmily Kaczmarek & Zoe Sarnak\nBrandon Michael Lowden & Alexander Sage Oyen\nSarah Rebell & Teresa Lotz\nMelvin Tunstall III\, Douglas Lyons\, & Ethan Pakchar\n\nDirector - Dev Bondarin\nMusic Director - Chris Gurr\nStage Manager - Craig Rosenthal
URL:http://archive.theatrewomen.org/event/world-views-2017-musical-theater-lab-at-prospect-theater-company/
LOCATION:242 West 41st Street\, New York\, NY\, NY\, United States
GEO:40.7560681;-73.9901225
X-APPLE-STRUCTURED-LOCATION;VALUE=URI;X-ADDRESS=242 West 41st Street New York NY NY United States;X-APPLE-RADIUS=500;X-TITLE=242 West 41st Street:geo:-73.9901225,40.7560681
CATEGORIES:Member News & Events
ATTACH;FMTTYPE=image/jpeg:http://archive.theatrewomen.org/wp-content/uploads/2017/06/world-views.jpg
END:VEVENT
END:VCALENDAR