BEGIN:VCALENDAR
VERSION:2.0
PRODID:-//League of Professional Theatre Women - ECPv4.2.7//NONSGML v1.0//EN
CALSCALE:GREGORIAN
METHOD:PUBLISH
X-WR-CALNAME:League of Professional Theatre Women
X-ORIGINAL-URL:http://archive.theatrewomen.org
X-WR-CALDESC:Events for League of Professional Theatre Women
BEGIN:VEVENT
DTSTART;TZID=America/New_York:20170409T160000
DTEND;TZID=America/New_York:20170409T170000
DTSTAMP:20260419T161829
CREATED:20170313T194445
LAST-MODIFIED:20170313T194445
UID:6585-1491753600-1491757200@archive.theatrewomen.org
SUMMARY:Women of Influence
DESCRIPTION:Cabaret show with songs and stories by and for the women that helped shape who I am - teachers\, family\, friends\, women singers. Pop and musical theater songs. The show is interpreted in American Sign Language and features a deaf performer. $15 cover charge + 2 drink minimum.
URL:http://archive.theatrewomen.org/event/women-of-influence/
LOCATION:343 W. 46 Street \, New York\, NY\, 10036\, United States
CATEGORIES:Member News & Events
ATTACH;FMTTYPE=image/jpeg:http://archive.theatrewomen.org/wp-content/uploads/2017/03/Lisa-8145-Compressed.jpg
END:VEVENT
END:VCALENDAR