BEGIN:VCALENDAR
VERSION:2.0
PRODID:-//League of Professional Theatre Women - ECPv4.2.7//NONSGML v1.0//EN
CALSCALE:GREGORIAN
METHOD:PUBLISH
X-WR-CALNAME:League of Professional Theatre Women
X-ORIGINAL-URL:http://archive.theatrewomen.org
X-WR-CALDESC:Events for League of Professional Theatre Women
BEGIN:VEVENT
DTSTART;TZID=America/New_York:20170824T190000
DTEND;TZID=America/New_York:20170824T200000
DTSTAMP:20260420T022341
CREATED:20170717T154804
LAST-MODIFIED:20170717T154804
UID:7613-1503601200-1503604800@archive.theatrewomen.org
SUMMARY:Women of Influence
DESCRIPTION:In this cabaret show LPTW member Lisa Dennett sings songs and shares stories by or for the women in her life: teachers\, friends\, family members and women singers. The show is entirely interpreted in American Sign Language and features a Deaf performer signing two of the songs. Pops songs plus show tunes.\n\nBrett Kristofferson serves as Musical Director\, Braulio Thorne is on drums. Kathleen D. Taylor\, American Sign Language interpreter\, Alexandria Wailes ASL director and featuring John McGinty.\n\n$15 cover and $20 food/drink minimum. The Laurie Beechman Theatre is downstairs at the West Bank Cafe.\n\nContact venue via website for wheelchair access instructions on W. 43 St.
URL:http://archive.theatrewomen.org/event/women-of-influence-3/
LOCATION:407 W. 42 Street\, New York\, NY\, 10036\, United States
CATEGORIES:Member News & Events
ATTACH;FMTTYPE=image/jpeg:http://archive.theatrewomen.org/wp-content/uploads/2017/07/Lisa-8017.jpg
END:VEVENT
END:VCALENDAR