BEGIN:VCALENDAR
VERSION:2.0
PRODID:-//League of Professional Theatre Women - ECPv4.2.7//NONSGML v1.0//EN
CALSCALE:GREGORIAN
METHOD:PUBLISH
X-WR-CALNAME:League of Professional Theatre Women
X-ORIGINAL-URL:http://archive.theatrewomen.org
X-WR-CALDESC:Events for League of Professional Theatre Women
BEGIN:VEVENT
DTSTART;TZID=America/New_York:20180919T200000
DTEND;TZID=America/New_York:20181021T150000
DTSTAMP:20260420T145131
CREATED:20180905T192533
LAST-MODIFIED:20180905T192533
UID:11512-1537387200-1540134000@archive.theatrewomen.org
SUMMARY:Wild Abandon
DESCRIPTION:Written and Performed by Leenya Rideout\nDirected by Lisa Rothe\n\nSeptember 19 – October 21\, 2018\n\nIrish Rep is proud to present the world premiere of Leenya Rideout’s solo show\, Wild Abandon\, featuring original music by Leenya Rideout and the artwork of Lynn Rideout. Playwright Leenya Rideout is a Broadway actress (Cabaret\, Company\, War Horse) musician\, and songwriter focused on folk\, rock\, and Celtic music. Wild Abandon explores a complicated mother-daughter relationship in a world where women are just beginning to have their voices heard through art.\n\nLeenya\, an actor and musician\, is figuratively and literally stuck. One night\, she finds herself performing alone in a Long Island pub\, separated by a snowstorm from the rest of her Irish rock band. Dusting off her original songs\, she revisits stories of love\, humor\, and heartache which all seem to invoke thoughts of her mother\, Lynn.\n\nLynn is also an artist\, but she prefers paints and canvas over a live audience. A reluctant stage mom\, she is a church lady full of mixed messages. As Leenya performs\, she reaches across a continent and a generation – connecting with her mother through art and memories. Together\, the two women push beyond their pasts and discover how to live with Wild Abandon.\n\nBoth funny and poignant\, this solo play with music examines the one primal relationship that is at once universal and infinitely\, uniquely complex.
URL:http://archive.theatrewomen.org/event/wild-abandon/
LOCATION:132 W 22nd St\, New York\, NY\, 10011\, United States
GEO:40.7426874;-73.9947651
X-APPLE-STRUCTURED-LOCATION;VALUE=URI;X-ADDRESS=132 W 22nd St New York NY 10011 United States;X-APPLE-RADIUS=500;X-TITLE=132 W 22nd St:geo:-73.9947651,40.7426874
CATEGORIES:Member News & Events
ATTACH;FMTTYPE=image/jpeg:http://archive.theatrewomen.org/wp-content/uploads/2018/09/Wild-Banadon-image.jpg
ORGANIZER;CN="Lisa%20Rothe":MAILTO:lisa.m.rothe@gmail.com
END:VEVENT
END:VCALENDAR