BEGIN:VCALENDAR
VERSION:2.0
PRODID:-//League of Professional Theatre Women - ECPv4.2.7//NONSGML v1.0//EN
CALSCALE:GREGORIAN
METHOD:PUBLISH
X-WR-CALNAME:League of Professional Theatre Women
X-ORIGINAL-URL:http://archive.theatrewomen.org
X-WR-CALDESC:Events for League of Professional Theatre Women
BEGIN:VEVENT
DTSTART;TZID=America/New_York:20170827T170000
DTEND;TZID=America/New_York:20170903T200000
DTSTAMP:20260421T113618
CREATED:20170814T205600
LAST-MODIFIED:20170814T205600
UID:7769-1503853200-1504468800@archive.theatrewomen.org
SUMMARY:Village\, My Home
DESCRIPTION:In a chaotic business world\, do we know the difference between astrophysics and Buddha? Can it all be solved with yoga? Featuring eight characters at various points of their lives\, Village\, My Home questions how we choose New York City and what are the comforts that draw us back home. We meet the Old Woman\, a matriarch who loves to paint and remembers the horrors of greater storms. We get a glimpse of out-of-towners and travelers from other boroughs\, willing to take the City. Just when you yearn for your fax machine\, we meet a new school\, techno-tribal Computer Geek who threatens to interrupt the very subways that connect us everyday.\n\nWith theatrical movement and state-of-the-art sound design\, Village\, My Home promises to warm the heart and calm the most unsettling times.\nVillage\, My Home stars Frances McGarry; Marjorie Conn*; Michael C. O’Day*; Kelsey Shapira; Jeff Burchfield*; Madalyn McKay; Christina Ashby; Maile Souza; Sean Evans; Maria Severny; Stephanie Roseman; Meaghan Adawe McLeod; Rebecca Genéve; and Catherine Luciani. Jak Prince is the lighting designer. Maria Ortiz Poveda is the costume designer. Dana Robbins is the stage manager.\n\n*Appears Courtesy of Actor’s Equity
URL:http://archive.theatrewomen.org/event/village-my-home/
LOCATION:155 FIRST Avenue (between E. 9th and E. 10th Streets) NYC\, New York\, NY\, United States
CATEGORIES:Member News & Events
ATTACH;FMTTYPE=image/jpeg:http://archive.theatrewomen.org/wp-content/uploads/2017/08/ManageImageEventGeneralInfoHandler.jpg
END:VEVENT
END:VCALENDAR