BEGIN:VCALENDAR
VERSION:2.0
PRODID:-//League of Professional Theatre Women - ECPv4.2.7//NONSGML v1.0//EN
CALSCALE:GREGORIAN
METHOD:PUBLISH
X-WR-CALNAME:League of Professional Theatre Women
X-ORIGINAL-URL:http://archive.theatrewomen.org
X-WR-CALDESC:Events for League of Professional Theatre Women
BEGIN:VEVENT
DTSTART;TZID=America/New_York:20190328T190000
DTEND;TZID=America/New_York:20190328T230000
DTSTAMP:20260420T104147
CREATED:20190211T164530
LAST-MODIFIED:20190211T164530
UID:12420-1553799600-1553814000@archive.theatrewomen.org
SUMMARY:TRIAL directed by Lori Petty at the Tilles Center to benefit WellLife
DESCRIPTION:WellLife Network\nPress Release\nWellLife Network ∙142-02 20th Avenue\, 3rd Floor\, Flushing\, NY 11351\n\nContact:\nCody Fisher\n917.563.3383\nCody.Fisher@WellLifeNetwork.org\n\nTrial\, a Riveting Play by Ashley Griffin\, Will Benefit WellLife Network’s Survivors of Sexual Trauma\n\nA one night benefit reading of Trial\, a new play by Ashley Griffin (Snow\, Twilight the Unauthorized Musical Parody)\, and directed by Lori Petty (Orange is New Black\, A League of\n\nTheir Own) will take place on Thursday March 28\, 2019\, at 7:00 P.M.\, at the Krasnoff Theatre - Tilles Center of C.W. Post College\, in Brookville\, New York.\nTrial tells the unique\, provocative\, story of a young woman waiting for her own judgment in the bureaucratic system of the afterlife where she finds herself in the role of judge and jury to determine the eternal fate of her father\, the man responsible for her abuse and death. The play is inspired by a true story.\nProceeds from the production will benefit the Children and Family Services of WellLife Network and support the agency’s Long Island network of education\, training and counseling services for children and adult survivors of sexual violence.\n\n“The issue of family violence affects the entire family\,” said Rebecca Costa\, Vice President\, Long Island Operations. “Our person-centered treatment services serve not only the survivor of sexual trauma\, but the entire family on their path to recovery and wellness.” Suicide is an all too common result of sexual trauma. WellLife Network has developed workshops and training seminars on suicide prevention that address these issues which are designed for community stakeholders\, clinical/ non-clinical staff\, educators\, families\, students\, and other concerned citizens.\n\nDeborah Boatright\, benefit co-chair and a board member of WellLife Network\, said “We are thrilled and very honored to have a large portion original cast perform this benefit-staged reading for us. Ashley Griffin’s haunting play movingly explores the issue of justice vs. mercy and the question: ‘What would a victim decide if they could determine their abusers eternal fate?’ This ensemble makes a strong statement – with a united voice and as a community – about the importance of raising awareness and stopping abuse against children and the subsequent dire effects of these acts which surface later in life.\nTrial had a sold out\, hit run this year off-Broadway at The American Theater of Actors (produced by THML Theatre Company\,) and has been developed at Broadway’s Manhattan Theater Club.\n\nCast members for Trial include: Ryan Clardy* (One Life To Live\,) Ashley Griffin* (The Greatest Showman\, "Hamlet" in Hamlet\,) Shereen Hickman* (Amaluna\,) Steve Hauck* (The Marvelous Mrs. Maisel\,) Jete Laurence (Pet Sematary\,) Jennifer Regan* (Born Yesterday\,) Malcolm Stephenson* and Galyana Castillo* (Rocktopia.) Assistant direction by Madeline O’Hara (Blogologues)\n*Appear courtesy Actors Equity Association\n\nThe production is directed by Lori Petty – Ms. Petty quickly achieved celebrity status in Hollywood\, starring in A League of Their Own\, Tank Girl and others. Most recently\, she has become the fan favorite star of Orange Is the New Black and Gotham. Petty made her directorial debut with the feature film The Poker House\, which she co-wrote.\n\nTheater patrons who purchase tickets at $175 and Corporate Sponsors will be invited to an exclusive cocktail party and Talkback session where they will meet and greet the director\, author and cast of TRIAL – a great photo opportunity for you and your family.\n\nTickets for the one-night-only benefit-staged reading are $75\, $100 and $175 per person.\n\nFor tickets\, please visit: https://www1.ticketmaster.com/event/00005592F915524C?dma_id=345&fbclid=IwAR1TgFTVbcP6IA43TQqr6WQRv8nIf3kNpfN9w_SHFLKksed96BjhH2kpDys\n\nThere are also a number of sponsorship opportunities ranging from $250 to $25\,000. For more information or reservations\, contact Cody Fisher\, Development Director - 917.563.3383.\n\nAbout WellLife Network\nSince its founding some 60 years ago\, WellLife Network has helped some one million people to lead more independent and productive lives. Today\, WellLife Network is one of the regions’ largest and most diversified voluntary\, not-for-profit health and human services organizations. Our extensive network of services in mental health\, developmental disabilities\, family and youth\, addiction recovery and residential services assists more than 25\,000 individuals and families each year. WellLife Network programs are licensed and approved for service by numerous governmental organizations and on Long Island work in partnership with the United Way.
URL:http://archive.theatrewomen.org/event/trial-directed-by-lori-petty-at-the-tilles-center-to-benefit-welllife/
LOCATION:720 Northern Blvd\, Brookvale\, NY\, 11548\, United States
CATEGORIES:Member News & Events
ATTACH;FMTTYPE=image/jpeg:http://archive.theatrewomen.org/wp-content/uploads/2019/02/Trial-image-reviews.jpg
END:VEVENT
END:VCALENDAR