BEGIN:VCALENDAR
VERSION:2.0
PRODID:-//League of Professional Theatre Women - ECPv4.2.7//NONSGML v1.0//EN
CALSCALE:GREGORIAN
METHOD:PUBLISH
X-WR-CALNAME:League of Professional Theatre Women
X-ORIGINAL-URL:http://archive.theatrewomen.org
X-WR-CALDESC:Events for League of Professional Theatre Women
BEGIN:VEVENT
DTSTART;TZID=America/New_York:20170921T080000
DTEND;TZID=America/New_York:20170921T170000
DTSTAMP:20260420T025758
CREATED:20170922T144859
LAST-MODIFIED:20170922T144859
UID:7952-1505980800-1506013200@archive.theatrewomen.org
SUMMARY:There's No Place Like Art!
DESCRIPTION:"The Arts are imperative — a life journey\, a life experience that is like no other.  The Arts bring people together all in one space.  The plays I’ve written have touched lives — they’ve changed lives and that’s what Art does." ~Dan McCormick\, Playwright\nThe arts are an essential part of a complete education\, no matter if it happens in the home\, school\, or community. Students of all ages—from kindergarten to college to creative aging programs—benefit from artistic learning\, innovative thinking\, and creativity. Celebrating National Arts in Education Week is a way to recognize this impact and share the message with friends\, family\, and communities.\nTowards that end First Online With Fran celebrates National Arts in Education Week by launching her first podcast featuring guest Dan McCormick\, playwright of The Violin at 59E59 Theater.\nThe podcast offers opportunities for you to join her in discussions on how ordinary people are doing extraordinary things in The Arts to make our world a richer\, deeper\, better place to live. In these divisive times\, tune in and listen to how The Arts transforms people’s lives and remind us how vitally important a role The Arts play in tapping into our humanity.
URL:http://archive.theatrewomen.org/event/theres-no-place-like-art/2017-09-21/
LOCATION:Website address for Podcast link\, New York\, NY\, United States
CATEGORIES:Member News & Events
ATTACH;FMTTYPE=image/png:http://archive.theatrewomen.org/wp-content/uploads/2017/09/FOLWF-Podcast-Art.png
ORGANIZER;CN="First%20Online%20With%20Fran":MAILTO:franceslmcgarry@gmail.com
END:VEVENT
END:VCALENDAR