BEGIN:VCALENDAR
VERSION:2.0
PRODID:-//League of Professional Theatre Women - ECPv4.2.7//NONSGML v1.0//EN
CALSCALE:GREGORIAN
METHOD:PUBLISH
X-WR-CALNAME:League of Professional Theatre Women
X-ORIGINAL-URL:http://archive.theatrewomen.org
X-WR-CALDESC:Events for League of Professional Theatre Women
BEGIN:VEVENT
DTSTART;TZID=America/New_York:20170510T193000
DTEND;TZID=America/New_York:20170510T193000
DTSTAMP:20260419T191903
CREATED:20170501T153406
LAST-MODIFIED:20170501T153406
UID:7164-1494444600-1494444600@archive.theatrewomen.org
SUMMARY:Theatre Lab New Play Festival
DESCRIPTION:Join us for the 2nd annual New Play Festival\, featuring the newest readings of some of the nation’s most prominent playwrights! Stick around for a post-show discussion - an opportunity to interact with the playwrights themselves\, where they will discuss the process\, inspiration\, and plans for future development. Show includes "I Do! Times Two" by Susan Shafer.
URL:http://archive.theatrewomen.org/event/theatre-lab-new-play-festival/
LOCATION:777 Glades Road\, Boca Raton\, FL\, 33431\, United States
GEO:26.3654078;-80.102364
X-APPLE-STRUCTURED-LOCATION;VALUE=URI;X-ADDRESS=777 Glades Road Boca Raton FL 33431 United States;X-APPLE-RADIUS=500;X-TITLE=777 Glades Road:geo:-80.102364,26.3654078
CATEGORIES:Member News & Events
ATTACH;FMTTYPE=image/png:http://archive.theatrewomen.org/wp-content/uploads/2017/04/0b4acc43-6b50-4268-8564-560a9be25dca.png
END:VEVENT
END:VCALENDAR