BEGIN:VCALENDAR
VERSION:2.0
PRODID:-//League of Professional Theatre Women - ECPv4.2.7//NONSGML v1.0//EN
CALSCALE:GREGORIAN
METHOD:PUBLISH
X-WR-CALNAME:League of Professional Theatre Women
X-ORIGINAL-URL:http://archive.theatrewomen.org
X-WR-CALDESC:Events for League of Professional Theatre Women
BEGIN:VEVENT
DTSTART;TZID=America/New_York:20190509T080000
DTEND;TZID=America/New_York:20190519T200000
DTSTAMP:20260420T060243
CREATED:20190508T192607
LAST-MODIFIED:20190508T192607
UID:13052-1557388800-1558296000@archive.theatrewomen.org
SUMMARY:The Voire Dire Project 4.0:  The Photography Cycle
DESCRIPTION:4 photographs/4 plays/25 Artists/1 Integrative Experience\n- Shattering the duality of Artistic Expression\n\nCosmic Orchid is pleased to announce this season's cycle of their signature production. Opens 5/14 at the Medicine Show Theatre with a full curation of the photographers work. An all-women cast features the work of 6 LPTW members:\nLiz Amadio\, Katherine Elliot\, Maxine Kern\, Coni Koepfinger\, Shellen Lubin\, Kat Mustatea\n\nArt Opening - Thursday 5/09/19 @ 6PM\n8 Performances:\nThursday\, 5/09 – Saturday\, 5/11 @ 8PM\nSunday\, 5/12 @ 3PM\nThursday\, 5/16 – Saturday\, 5/18 @ 8PM\nSunday\, 5/19 @ 3PM\n\n20% discount for LPTW using the code: LPTW
URL:http://archive.theatrewomen.org/event/the-voire-dire-project-4-0-the-photography-cycle/2019-05-09/
LOCATION:549 West 52nd Street\, 3rd Floor\, New York\, NY\, United States
CATEGORIES:Member News & Events
ATTACH;FMTTYPE=image/jpeg:http://archive.theatrewomen.org/wp-content/uploads/2019/05/VDP-4.0-Flyer1.jpg
ORGANIZER;CN="Cosmic%20Orchid":MAILTO:info@cosmicorchid.com
END:VEVENT
END:VCALENDAR