BEGIN:VCALENDAR
VERSION:2.0
PRODID:-//League of Professional Theatre Women - ECPv4.2.7//NONSGML v1.0//EN
CALSCALE:GREGORIAN
METHOD:PUBLISH
X-WR-CALNAME:League of Professional Theatre Women
X-ORIGINAL-URL:http://archive.theatrewomen.org
X-WR-CALDESC:Events for League of Professional Theatre Women
BEGIN:VEVENT
DTSTART;TZID=America/New_York:20170830T183000
DTEND;TZID=America/New_York:20170907T220000
DTSTAMP:20260420T010820
CREATED:20170830T182215
LAST-MODIFIED:20170830T182215
UID:7846-1504117800-1504821600@archive.theatrewomen.org
SUMMARY:The Voire Dire Project 1.5
DESCRIPTION:An AEA Showcase production of:\nJ. Lois Diamond’s In Alabama\, directed by Liz Amadio\nInspired by Puberty by Avron Soyer\nWith Mary Tierney* and Elizabeth Vermiliyea\n\nLiz Amadio’s In the Attic\, directed by Danielle Earle\nInspired by Postcard - excerpt of Dick Tass by Susan Tammany\nwith Kendra Augustin & Courtney Vinson\n\nMaxine Kern’s Dostoyevsky\, directed by Liz Amadio\nInspired by Winter Home by Avron Soyer\nwith Donald Chang\, Jane Rubinsky & Susan Skosko\n\nConi Koepfinger’s AfterLife (excerpt)\, directed by Joan Kane.\nInspired by The Invasion by Cindi Cericola\nwith Lani Cerveris Cataldi & Stark Wilz\nSet Design by Lindsay Shields\nLighting Design by Bruce A! Kraemer\n\nStage Manager: Victor Vauban Junior\nSound/Lighting: Bandele Prioleau\nProduction Associate/Projection: Jane Silverstein\nArt Curation Coordinators: Claude Isbell/Maxine Kern\nVideo Artist: Jonah Farley\n\n*Appearing courtesy of Actors Equity Association\n\nAbout the Project:\nIn the Spring of 2016\, Cosmic Orchid produced the inaugural cycle of its signature production\, The Voire Dire Project. Through Integrative Theatre\, four theatrical teams each developed a one-act play inspired by a separate work of visual art (all paintings). This production is a reincarnation of those plays\, revised and developed - casting actors in different roles\, and integrating the creative teams of each play. In addition to the performances\, the Dream Up Festival includes a full curation of the art work in the gallery adjacent to the theatre where the plays are performed. The inspiration continues with a metamorphosis of the performance\, and a new vision of the project - a moving audience experience!
URL:http://archive.theatrewomen.org/event/the-voire-dire-project-1-5/2017-08-30/
LOCATION:155 First Avenue\, New York\, NY\, 10003\, United States
CATEGORIES:Member News & Events
ATTACH;FMTTYPE=image/jpeg:http://archive.theatrewomen.org/wp-content/uploads/2017/08/VDP-Banner-1.51.jpg
ORGANIZER;CN="Cosmic%20Orchid":MAILTO:info@cosmicorchid.com
END:VEVENT
END:VCALENDAR