BEGIN:VCALENDAR
VERSION:2.0
PRODID:-//League of Professional Theatre Women - ECPv4.2.7//NONSGML v1.0//EN
CALSCALE:GREGORIAN
METHOD:PUBLISH
X-WR-CALNAME:League of Professional Theatre Women
X-ORIGINAL-URL:http://archive.theatrewomen.org
X-WR-CALDESC:Events for League of Professional Theatre Women
BEGIN:VEVENT
DTSTART;TZID=America/New_York:20170413T190000
DTEND;TZID=America/New_York:20170415T190000
DTSTAMP:20260421T094529
CREATED:20170314T150007
LAST-MODIFIED:20170314T150007
UID:6590-1492110000-1492282800@archive.theatrewomen.org
SUMMARY:The Tongue That Tells Me So
DESCRIPTION:The Tongue That Tells Me So is a new play co-written by LPTW member Mariah Sage and Bruce Seymour. Part of the Test Flight Series at Cleveland Public Theatre.\n\nAt a young age\, ambitious Anne is willing to pay any price to get ahead. Her mysterious mentor Simone is there to help. Once Anne becomes a mother and a successful physician\, Anne must go to greater lengths to hold onto what she has. THE TONGUE THAT TELLS ME SO examines the ethics of protective parenting\, modern medicine\, and virtue tested.
URL:http://archive.theatrewomen.org/event/the-tongue-that-tells-me-so/
LOCATION:6415 Detroit Ave\, Cleveland\, OH\, 44102\, United States
CATEGORIES:Member News & Events
ATTACH;FMTTYPE=image/jpeg:http://archive.theatrewomen.org/wp-content/uploads/2017/03/TheTongueThatTellsMeSoLogoArt_WithoutTitle_LowRes.jpg
END:VEVENT
END:VCALENDAR