BEGIN:VCALENDAR
VERSION:2.0
PRODID:-//League of Professional Theatre Women - ECPv4.2.7//NONSGML v1.0//EN
CALSCALE:GREGORIAN
METHOD:PUBLISH
X-WR-CALNAME:League of Professional Theatre Women
X-ORIGINAL-URL:http://archive.theatrewomen.org
X-WR-CALDESC:Events for League of Professional Theatre Women
BEGIN:VEVENT
DTSTART;TZID=America/New_York:20190329T190000
DTEND;TZID=America/New_York:20190811T213000
DTSTAMP:20260420T073819
CREATED:20190329T233056
LAST-MODIFIED:20190628T191810
UID:12790-1553886000-1565559000@archive.theatrewomen.org
SUMMARY:THE PROM Musical on Broadway
DESCRIPTION:Everyone’s invited to the joyous Broadway hit THE PROM that New York Magazine calls “smart and big-hearted” and The New York Times declares a Critic’s Pick! It’s a new musical comedy about big Broadway stars\, a small town\, and a love that unites them all.\n\nBillboard cheers\, “THE PROM is Hairspray meets Dear Evan Hansen!” Variety raves\, “It’s so full of happiness that you think your heart is about to burst.” And The Hollywood Reporter cheers\, “It’s comic gold!”\n\nYou belong at THE PROM!\n\nFriends and family offer for LPTW members - use code PQFAM824 at www.TelechargeOffers.com for tickets starting at $49.
URL:http://archive.theatrewomen.org/event/the-prom-musical-on-broadway/2019-03-29/
LOCATION:220 West 48th Street\, New York\, NY\, United States
CATEGORIES:Member News & Events
ATTACH;FMTTYPE=image/jpeg:http://archive.theatrewomen.org/wp-content/uploads/2019/03/I-LOVE-THE-PROM.jpg
END:VEVENT
END:VCALENDAR