BEGIN:VCALENDAR
VERSION:2.0
PRODID:-//League of Professional Theatre Women - ECPv4.2.7//NONSGML v1.0//EN
CALSCALE:GREGORIAN
METHOD:PUBLISH
X-WR-CALNAME:League of Professional Theatre Women
X-ORIGINAL-URL:http://archive.theatrewomen.org
X-WR-CALDESC:Events for League of Professional Theatre Women
BEGIN:VEVENT
DTSTART;TZID=America/New_York:20170309T190000
DTEND;TZID=America/New_York:20170326T160000
DTSTAMP:20260421T160547
CREATED:20170222T194821
LAST-MODIFIED:20170222T194821
UID:6458-1489086000-1490544000@archive.theatrewomen.org
SUMMARY:The Last Days of Judas Iscariot\, by Stephen Adly Guirgis\, directed by Estelle Parsons
DESCRIPTION:LPTW member Estelle Parsons will direct "The Last Days of Judas Iscariot" by Stephen Adly Guirgis at La MaMa in the Ellen Stewart Theatre featuring LPTW Member Richarda Abrams (former LPTW Board Member/Networking Committee Co-Chair) and 25 Actors Studio performers.\n\nSet in a criminal court\, Judas’ soul hangs in the balance as historic witnesses\, including Freud\, Mother Teresa and Satan\, deliver testimony with raw honesty and scathing humor. The play examines ideas of love\, free will and forgiveness\, coupled with the notion that evil may not be the presence of hate\, but rather the absence of compassion.\n\n“When Estelle Parsons produces work like this\, you just have to say amen.”\n-Huffington Post\, 2016\n\nMarch 09 - March 26\, 2017\nThursday to Saturday at 7PM; Sunday at 4PM *additional performance Monday\, March 13 at 7PM\nLa MaMa - Ellen Stewart Theatre | 66 East 4th Street (2nd Floor)\n$20 Adults; $15 Students/Seniors\nCall OvationTix: 212-352-3101 or https://web.ovationtix.com/trs/pr/966846\nBuy Tickets in Person: Box Office opens 1 hour prior to showtime\nhttp://lamama.org/judas-iscariot/\n\nAEA Showcase
URL:http://archive.theatrewomen.org/event/the-last-days-of-judas-iscariot-by-stephen-adly-guirgis-directed-by-estelle-parsons/
LOCATION:66 East 4th Street (2nd Floor)\, New York\, NY\, 10003\, United States
CATEGORIES:Member News & Events
ATTACH;FMTTYPE=image/jpeg:http://archive.theatrewomen.org/wp-content/uploads/2017/02/last-days-pc-front.jpg
ORGANIZER;CN="Richarda%20Abrams":MAILTO:richarda@richardaabrams.com
END:VEVENT
END:VCALENDAR