BEGIN:VCALENDAR
VERSION:2.0
PRODID:-//League of Professional Theatre Women - ECPv4.2.7//NONSGML v1.0//EN
CALSCALE:GREGORIAN
METHOD:PUBLISH
X-WR-CALNAME:League of Professional Theatre Women
X-ORIGINAL-URL:http://archive.theatrewomen.org
X-WR-CALDESC:Events for League of Professional Theatre Women
BEGIN:VEVENT
DTSTART;TZID=America/New_York:20190110T080000
DTEND;TZID=America/New_York:20190317T170000
DTSTAMP:20260420T054715
CREATED:20181206T154432
LAST-MODIFIED:20181206T154432
UID:12123-1547107200-1552842000@archive.theatrewomen.org
SUMMARY:THE HOUSE ON POE STREET
DESCRIPTION:Production of the play by Fengar Gael with music composed by Sheilah Rae from January 10th\, 2019 to March 17\, 2019\n\nGothic ghosts encounter modern monstrosities when twin sisters inherit the house where Poe composed The Raven. The House on Poe Street attempts to reflect Poe’s macabre spirit while exploring issues of gender parity\, the presumptions of wealth\, and the power of poetry to conjure visions of a spectral afterlife.
URL:http://archive.theatrewomen.org/event/the-house-on-poe-street-2/
LOCATION:New York\, NY\, United States
CATEGORIES:Member News & Events
ATTACH;FMTTYPE=image/jpeg:http://archive.theatrewomen.org/wp-content/uploads/2018/12/Detroit-Rep-Poster.jpg
END:VEVENT
END:VCALENDAR