BEGIN:VCALENDAR
VERSION:2.0
PRODID:-//League of Professional Theatre Women - ECPv4.2.7//NONSGML v1.0//EN
CALSCALE:GREGORIAN
METHOD:PUBLISH
X-WR-CALNAME:League of Professional Theatre Women
X-ORIGINAL-URL:http://archive.theatrewomen.org
X-WR-CALDESC:Events for League of Professional Theatre Women
BEGIN:VEVENT
DTSTART;TZID=America/New_York:20171022T150000
DTEND;TZID=America/New_York:20171022T170000
DTSTAMP:20260419T121456
CREATED:20171006T155445
LAST-MODIFIED:20171006T155542
UID:8174-1508684400-1508691600@archive.theatrewomen.org
SUMMARY:The First Ladies Coalition
DESCRIPTION:The First Ladies Coalition\nCreated & Performed by LPTW Member Ginger Grace\nDirected by Austin Pendleton\nWildly extraordinary lives of the past connect with our own lives today -- in the sewing shop of Colleen McCracken! An immigrant and ex-convict\, a survivor of domestic violence\, Colleen builds a Coalition with four First Ladies: Eleanor Roosevelt\, Jackie Kennedy\, Lady Bird Johnson and Mary Todd Lincoln. Mysteries and secrets are unveiled -- hers & theirs -- and with deep delight\, mimicry and subtle impersonations\, Colleen seamlessly transports us into the life and times of these iconic women. Driven by their inspiration and encouragement\, she turns insurmountable obstacles into the extraordinary -- new found freedom!
URL:http://archive.theatrewomen.org/event/the-first-ladies-coalition-4/
LOCATION:3 Owens Road\, North Salem\, NY\, 10560\, United States
CATEGORIES:Member News & Events
ATTACH;FMTTYPE=image/jpeg:http://archive.theatrewomen.org/wp-content/uploads/2017/09/First-Ladies-Coalition-Image-2048-Cropped.jpg
END:VEVENT
END:VCALENDAR