BEGIN:VCALENDAR
VERSION:2.0
PRODID:-//League of Professional Theatre Women - ECPv4.2.7//NONSGML v1.0//EN
CALSCALE:GREGORIAN
METHOD:PUBLISH
X-WR-CALNAME:League of Professional Theatre Women
X-ORIGINAL-URL:http://archive.theatrewomen.org
X-WR-CALDESC:Events for League of Professional Theatre Women
BEGIN:VEVENT
DTSTART;TZID=America/New_York:20171022T030000
DTEND;TZID=America/New_York:20171022T170000
DTSTAMP:20260419T220453
CREATED:20170913T185854
LAST-MODIFIED:20170913T185854
UID:7932-1508641200-1508691600@archive.theatrewomen.org
SUMMARY:The First Ladies Coalition
DESCRIPTION:Created & Performed by Ginger Grace\nDirected by Austin Pendleton\nIn "The First Ladies Coalition" Colleen McCracken invites the audience into her tiny New York apartment\, which also serves as her sewing shop. A struggling immigrant and ex-convict\, a survivor of domestic violence\, Colleen builds a Coalition with 4 First Ladies: Eleanor Roosevelt\, Jackie Kennedy\, Lady Bird Johnson and Mary Todd Lincoln. Mysteries and secrets are unveiled -- hers & theirs -- and\, with deep delight in mimicry and subtle impersonation\, Colleen seamlessly transports us into the life and times of these iconic women. Driven by their inspiration\, their encouragement\, she finds the power to turn insurmountable obstacles into the extraordinary -- new found freedom!
URL:http://archive.theatrewomen.org/event/the-first-ladies-coalition-2/
LOCATION:3 Owens Road\, North Salem\, NY\, 10560\, United States
CATEGORIES:Member News & Events
ATTACH;FMTTYPE=image/jpeg:http://archive.theatrewomen.org/wp-content/uploads/2017/09/First-Ladies-Coalition-Press-Photo.jpg
END:VEVENT
END:VCALENDAR