BEGIN:VCALENDAR
VERSION:2.0
PRODID:-//League of Professional Theatre Women - ECPv4.2.7//NONSGML v1.0//EN
CALSCALE:GREGORIAN
METHOD:PUBLISH
X-WR-CALNAME:League of Professional Theatre Women
X-ORIGINAL-URL:http://archive.theatrewomen.org
X-WR-CALDESC:Events for League of Professional Theatre Women
BEGIN:VEVENT
DTSTART;TZID=America/New_York:20170603T093000
DTEND;TZID=America/New_York:20170604T190000
DTSTAMP:20260419T143308
CREATED:20170410T191118
LAST-MODIFIED:20170410T191118
UID:6850-1496482200-1496602800@archive.theatrewomen.org
SUMMARY:The Broadway Stage Management Symposium
DESCRIPTION:The Broadway Stage Management Symposium is a two day forum featuring a series of panels\, lectures and seminars by some of Broadway's most experienced stage managers.\n\nThese professionals will discuss stage management skills\, challenges\, experiences\, the craft and art of stage management and how to make a career working on Broadway Plays and Musicals.\n\nTopics may include (but are not limited to):\n*calling large musicals *working with Broadway's unions *paperwork\n*note taking and organization *automation *running rehearsals and tech\n*technology for stage managers *databases *safety\n*career advice *managing creative artist *leadership and more…
URL:http://archive.theatrewomen.org/event/the-broadway-stage-management-symposium/2017-06-03/
LOCATION:244 WEST 54TH ST\, New York\, NY\, 10019\, United States
CATEGORIES:Member News & Events
ATTACH;FMTTYPE=image/jpeg:http://archive.theatrewomen.org/wp-content/uploads/2017/04/Symposium-Flyer-2017.jpg
ORGANIZER;CN="Broadway%20Stage%20Management%20Symposium":MAILTO:info@broadwaysymposium.com
END:VEVENT
END:VCALENDAR