BEGIN:VCALENDAR
VERSION:2.0
PRODID:-//League of Professional Theatre Women - ECPv4.2.7//NONSGML v1.0//EN
CALSCALE:GREGORIAN
METHOD:PUBLISH
X-WR-CALNAME:League of Professional Theatre Women
X-ORIGINAL-URL:http://archive.theatrewomen.org
X-WR-CALDESC:Events for League of Professional Theatre Women
BEGIN:VEVENT
DTSTART;TZID=America/New_York:20170808T080000
DTEND;TZID=America/New_York:20170808T170000
DTSTAMP:20260420T040353
CREATED:20170719T182916
LAST-MODIFIED:20170719T182916
UID:7634-1502179200-1502211600@archive.theatrewomen.org
SUMMARY:TEDx Talk on Archetypal Hero's Journey\, Stories and Theatre
DESCRIPTION:Amy Oestreicher's second TEDx Talk at Virginia Commonwealth University used Joseph Campbell's archetypal Hero's Journey as a means of theatricalizing and celebrating the everyday\, transforming trauma into an exciting adventure\, and finding the universal story in healing. The talk went live this week: https://www.youtube.com/embed/XhBD-a_Qsjc
URL:http://archive.theatrewomen.org/event/tedx-talk-on-archetypal-heros-journey-stories-and-theatre/
LOCATION:New York\, NY\, United States
CATEGORIES:Member News & Events
ATTACH;FMTTYPE=image/jpeg:http://archive.theatrewomen.org/wp-content/uploads/2017/07/16996277_1881785732066255_6045938122716822305_n.jpg
END:VEVENT
END:VCALENDAR