BEGIN:VCALENDAR
VERSION:2.0
PRODID:-//League of Professional Theatre Women - ECPv4.2.7//NONSGML v1.0//EN
CALSCALE:GREGORIAN
METHOD:PUBLISH
X-WR-CALNAME:League of Professional Theatre Women
X-ORIGINAL-URL:http://archive.theatrewomen.org
X-WR-CALDESC:Events for League of Professional Theatre Women
BEGIN:VEVENT
DTSTART;TZID=America/New_York:20171208T190000
DTEND;TZID=America/New_York:20171216T193000
DTSTAMP:20260421T131956
CREATED:20171204T164111
LAST-MODIFIED:20171204T164111
UID:8373-1512759600-1513452600@archive.theatrewomen.org
SUMMARY:TANIA IN THE GETAWAY VAN by Susan Bernfield / The Pool
DESCRIPTION:The Pool is a pop-up theater company formed by playwrights Lynn Rosen\, Peter Gil-Sheridan & Susan Bernfield to drive our own processes and produce our ready-to-go plays!\n\n...including Susan Bernfield's semi-autobiographical TANIA IN THE GETAWAY VAN\, all about the women's movement! It’s 1975 in the San Francisco Bay Area\, and Laura’s mom is going back to school. Diane is discovering liberation\, openness\, possibility! But that doesn’t mean eleven-year-old Laura has to play along\, no way. She’s in the hall closet\, pretending to be Patty Hearst. Fast forward to 2012. Successful Laura looks like a model product of the women’s movement… or is she just the byproduct of Diane’s expectations?\n\nDirected by Portia Krieger and featuring Annie McNamara\, Caitlin Morris\, Courtney G. Williams and Madeline Wise.
URL:http://archive.theatrewomen.org/event/tania-in-the-getaway-van-by-susan-bernfield-the-pool/2017-12-08/
LOCATION:20 Thomas Street\, New York\, NY\, 10007\, United States
CATEGORIES:Member News & Events
ATTACH;FMTTYPE=image/png:http://archive.theatrewomen.org/wp-content/uploads/2017/12/poolforfleaeblast.png
ORGANIZER;CN="The%20Pool":MAILTO:susan@newgeorges.org
END:VEVENT
END:VCALENDAR