BEGIN:VCALENDAR
VERSION:2.0
PRODID:-//League of Professional Theatre Women - ECPv4.2.7//NONSGML v1.0//EN
CALSCALE:GREGORIAN
METHOD:PUBLISH
X-WR-CALNAME:League of Professional Theatre Women
X-ORIGINAL-URL:http://archive.theatrewomen.org
X-WR-CALDESC:Events for League of Professional Theatre Women
BEGIN:VEVENT
DTSTART;TZID=America/New_York:20170722T203000
DTEND;TZID=America/New_York:20170812T220000
DTSTAMP:20260419T190523
CREATED:20170703T140108
LAST-MODIFIED:20170703T173156
UID:7574-1500755400-1502575200@archive.theatrewomen.org
SUMMARY:Singing Beach
DESCRIPTION:Theatre 167 presents the world premiere of\nSinging Beach\nby Tina Howe\ndirected by Ari Laura Kreith\n\nA Category 4 hurricane approaches Singing Beach\, but the Sleeper clan is struggling with storms of its own. A play about climate change\, aging\, and the power of imagination to change the world.\n\nFeaturing Erin Beirnard*\, Devin Haqq*\, Jackson Demott Hill*\, John P. Keller*\, Tuck Milligan*\, Elodie Morss\, and Naren Weiss*\n\nJuly 22-August 12\nWednesdays\, Thursdays\, Fridays\, Saturdays at 8:30pm; Sundays at 4pm.\n\nTickets start at $30 and are available at Ovation tix: (866) 811-4111. Use discount code for $10 off. Join us on Wednesday\, July 26th for a reception after our third preview.
URL:http://archive.theatrewomen.org/event/singing-beach/
LOCATION:145 Sixth Avenue\, New York\, NY\, 10013\, United States
CATEGORIES:Member News & Events
ATTACH;FMTTYPE=image/jpeg:http://archive.theatrewomen.org/wp-content/uploads/2017/07/smallerwave.jpg
ORGANIZER;CN="Jenny%20Lyn%20Bader%2FTheatre%20167":MAILTO:theatre167@gmail.com
END:VEVENT
END:VCALENDAR