BEGIN:VCALENDAR
VERSION:2.0
PRODID:-//League of Professional Theatre Women - ECPv4.2.7//NONSGML v1.0//EN
CALSCALE:GREGORIAN
METHOD:PUBLISH
X-WR-CALNAME:League of Professional Theatre Women
X-ORIGINAL-URL:http://archive.theatrewomen.org
X-WR-CALDESC:Events for League of Professional Theatre Women
BEGIN:VEVENT
DTSTART;TZID=America/New_York:20170419T130000
DTEND;TZID=America/New_York:20170419T143000
DTSTAMP:20260421T112018
CREATED:20170406T185825
LAST-MODIFIED:20170406T185825
UID:6785-1492606800-1492612200@archive.theatrewomen.org
SUMMARY:SILENT WITNESSES
DESCRIPTION:An award-winning solo play\, written and performed by Stephanie Satie\, Directed by Anita Khanzadian\, based on interviews with child survivors of the Holocaust.\nOne performance is at the Oxnard College Performing Arts Center on Wednesday\, April 19th at 1 pm.\nTwo other performances will be at Mt. Zion United Methodist Church in Bel Air\, Maryland Saturday April 22 at 7:30 pm and Sunday April 23 at 2 pm.
URL:http://archive.theatrewomen.org/event/silent-witnesses/
LOCATION:4000 South Rose Ave.\, Oxnard\, CA\, 93033\, United States
CATEGORIES:Member News & Events
ORGANIZER;CN="Oxnard%20Vollege%20Literature%20and%20Arts%20Lecture%20Series":MAILTO:ssavren@vccd.edu
END:VEVENT
END:VCALENDAR