BEGIN:VCALENDAR
VERSION:2.0
PRODID:-//League of Professional Theatre Women - ECPv4.2.7//NONSGML v1.0//EN
CALSCALE:GREGORIAN
METHOD:PUBLISH
X-WR-CALNAME:League of Professional Theatre Women
X-ORIGINAL-URL:http://archive.theatrewomen.org
X-WR-CALDESC:Events for League of Professional Theatre Women
BEGIN:VEVENT
DTSTART;TZID=America/New_York:20170422T193000
DTEND;TZID=America/New_York:20170422T210000
DTSTAMP:20260421T124831
CREATED:20170406T185821
LAST-MODIFIED:20170406T185821
UID:6789-1492889400-1492894800@archive.theatrewomen.org
SUMMARY:SILENT WITNESSES\, a solo play based on interviews with Child Survivors of the Holocaust
DESCRIPTION:Written and performed by member Stephanie Satie\, directed by member\, Anita Khanzadian.
URL:http://archive.theatrewomen.org/event/silent-witnesses-a-solo-play-based-on-interviews-with-child-survivors-of-the-holocaust/2017-04-22/
LOCATION:1643 Churchville Rd. \, Bel Air\, MD\, 21015\, United States
CATEGORIES:Member News & Events
ATTACH;FMTTYPE=image/jpeg:http://archive.theatrewomen.org/wp-content/uploads/2017/04/5913-SilentWitnesses.jpg
END:VEVENT
END:VCALENDAR