BEGIN:VCALENDAR
VERSION:2.0
PRODID:-//League of Professional Theatre Women - ECPv4.2.7//NONSGML v1.0//EN
CALSCALE:GREGORIAN
METHOD:PUBLISH
X-WR-CALNAME:League of Professional Theatre Women
X-ORIGINAL-URL:http://archive.theatrewomen.org
X-WR-CALDESC:Events for League of Professional Theatre Women
BEGIN:VEVENT
DTSTART;TZID=America/New_York:20170627T190000
DTEND;TZID=America/New_York:20170627T203000
DTSTAMP:20260419T190646
CREATED:20170606T164829
LAST-MODIFIED:20170606T164856
UID:7475-1498590000-1498595400@archive.theatrewomen.org
SUMMARY:SHELTER
DESCRIPTION:Jon Cryer (Two and a Half Men) will star in a concert presentation of Gretchen Cryer and LTPW member Nancy Ford's 1973 musical SHELTER joined by Sally Ann Triplett (The Last Ship\, Finding Neverland) Alyse Alan Louis (Amelie\, Disaster)\, Jeff Kready (A Gentleman's Guide to Love and Murder\, Billy Elliot\, Sunday in the Park With George)\, Lynne Halliday (Baby\, I'm Still Getting My Act Together...\, Inventing Mary Martin\, and Scott Clare..Tuesday\, June 27th\, at 7:00pm and 9:30pm. A presentation of "Second Act."\n\nTwo years before Ed Roberts introduced the first "personal computer\," an original musical about love\, technology and the things we can't control appeared on Broadway\, written by the creators of I'm Getting My Act Together and Taking It On The Road . Michael (Cryer) is a television commercial writer who lives with his roommate Arthur (Kready). Michael and Arthur are best of friends\, but there's just one catch... Arthur is a computer. Michael uses technology to perfect every part of his life. But there are some problems -- like love -- even computers can't solve.
URL:http://archive.theatrewomen.org/event/shelter/2017-06-27/
LOCATION:254 54th St Cellar\, New York\, New York\, Select a Country:
CATEGORIES:Member News & Events
END:VEVENT
END:VCALENDAR