BEGIN:VCALENDAR
VERSION:2.0
PRODID:-//League of Professional Theatre Women - ECPv4.2.7//NONSGML v1.0//EN
CALSCALE:GREGORIAN
METHOD:PUBLISH
X-WR-CALNAME:League of Professional Theatre Women
X-ORIGINAL-URL:http://archive.theatrewomen.org
X-WR-CALDESC:Events for League of Professional Theatre Women
BEGIN:VEVENT
DTSTART;TZID=America/New_York:20170917T140000
DTEND;TZID=America/New_York:20170917T160000
DTSTAMP:20260419T191056
CREATED:20170911T203642
LAST-MODIFIED:20180622T142445
UID:7919-1505656800-1505664000@archive.theatrewomen.org
SUMMARY:SCARBERIA - LPTW Gilder/Coigney Award Fundraiser
DESCRIPTION:ATTEND THE NEXT GILDER/COIGNEY INTERNATIONAL THEATRE AWARD FUNDRAISER: SCARBERIA ON SUNDAY\, SEPTEMBER 17TH.\nWritten and directed by Elizabeth Hess\, the reading was presented by members of The Hess Collective: Chris Andrae\, Elizabeth Hess\, Danielle Sacks.\n\nSCARBERIA consists of ten fables inspired by the real events of neighbors living on the same block in the 1950s in a working-class suburb in North America.\n\nThis brilliantly written and evocative piece of theatre brings us directly into the private world of these women. How much has actually changed we wonder?\nPlease see flyer below for all event details. Tickets are $15 and will be sold at the door (cash or check only).\n\nCan't attend\, but still want to support the LPTW's Gilder/Coigney International Theatre Award? Please consider making a donation instead. As a 501(c)3 organization\, all gifts and donations to LPTW are fully tax-deductible to the extent allowed by law. Thank you for your support!\n\n
URL:http://archive.theatrewomen.org/event/scarberia-lptw-gildercoigney-award-fundraiser/
LOCATION:357 West 36th Street\, 3rd Floor\, New York\, NY\, 10018\, United States
GEO:40.7545052;-73.9946137
X-APPLE-STRUCTURED-LOCATION;VALUE=URI;X-ADDRESS=357 West 36th Street 3rd Floor New York NY 10018 United States;X-APPLE-RADIUS=500;X-TITLE=357 West 36th Street\, 3rd Floor:geo:-73.9946137,40.7545052
ATTACH;FMTTYPE=image/jpeg:http://archive.theatrewomen.org/wp-content/uploads/2017/05/E-Scarberia-1.jpg
END:VEVENT
END:VCALENDAR