BEGIN:VCALENDAR
VERSION:2.0
PRODID:-//League of Professional Theatre Women - ECPv4.2.7//NONSGML v1.0//EN
CALSCALE:GREGORIAN
METHOD:PUBLISH
X-WR-CALNAME:League of Professional Theatre Women
X-ORIGINAL-URL:http://archive.theatrewomen.org
X-WR-CALDESC:Events for League of Professional Theatre Women
BEGIN:VEVENT
DTSTART;TZID=America/New_York:20170917T140000
DTEND;TZID=America/New_York:20170917T140000
DTSTAMP:20260421T143119
CREATED:20170815T191104
LAST-MODIFIED:20170815T191104
UID:7772-1505656800-1505656800@archive.theatrewomen.org
SUMMARY:SCARBERIA by Elizabeth Hess
DESCRIPTION:A BENEFIT performance for the LPTW Gilder/Coigney International Award.\nFeaturing ELIZABETH HESS\, and members of the Hess Collective.\nThis is a brilliant and evocative piece of writing.
URL:http://archive.theatrewomen.org/event/scarberia-by-elizabeth-hess/
LOCATION:357 West 36th Street\, 3rd Floor\, New York\, NY\, 10018\, United States
GEO:40.7545052;-73.9946137
X-APPLE-STRUCTURED-LOCATION;VALUE=URI;X-ADDRESS=357 West 36th Street 3rd Floor New York NY 10018 United States;X-APPLE-RADIUS=500;X-TITLE=357 West 36th Street\, 3rd Floor:geo:-73.9946137,40.7545052
CATEGORIES:Member News & Events
ATTACH;FMTTYPE=image/jpeg:http://archive.theatrewomen.org/wp-content/uploads/2017/08/E-Scarberia-1.jpg
ORGANIZER;CN="Alexa%20%20Kelly":MAILTO:alexa@pulseensembletheatre.org
END:VEVENT
END:VCALENDAR