BEGIN:VCALENDAR
VERSION:2.0
PRODID:-//League of Professional Theatre Women - ECPv4.2.7//NONSGML v1.0//EN
CALSCALE:GREGORIAN
METHOD:PUBLISH
X-WR-CALNAME:League of Professional Theatre Women
X-ORIGINAL-URL:http://archive.theatrewomen.org
X-WR-CALDESC:Events for League of Professional Theatre Women
BEGIN:VEVENT
DTSTART;TZID=America/New_York:20170606T080000
DTEND;TZID=America/New_York:20170606T170000
DTSTAMP:20260419T202911
CREATED:20170606T154821
LAST-MODIFIED:20170606T154821
UID:7468-1496736000-1496768400@archive.theatrewomen.org
SUMMARY:Rojo Verde
DESCRIPTION:Rojo Verde\n\nA New Play by Lynda Crawford is to have a staged reading in the 2017 Planet Connections Festivity\n\nJuly 6\, 2017\n5:30 p.m\n\nLATEA Theatre\n107 Suffolk Street\n(Between Rivington and Delancey)\n\nThe Barrera family have had a small farm in New Mexico for hundreds of years—when it was native land\, when it was Mexican\, and now part of the US—producing\, among other things\, an outstanding native chili pepper\, the Rojo Verde. But their livelihood and traditions are now threatened by an invisible drift: GMOs.
URL:http://archive.theatrewomen.org/event/rojo-verde/
LOCATION:107 Suffolk Street\, New York\, NY\, 10002\, United States
CATEGORIES:Member News & Events
ATTACH;FMTTYPE=image/jpeg:http://archive.theatrewomen.org/wp-content/uploads/2017/06/RVprecast-hyperlink.jpg
ORGANIZER;CN="YaYa%20Productions":MAILTO:yayaproductions@earthlink.net
END:VEVENT
END:VCALENDAR