BEGIN:VCALENDAR
VERSION:2.0
PRODID:-//League of Professional Theatre Women - ECPv4.2.7//NONSGML v1.0//EN
CALSCALE:GREGORIAN
METHOD:PUBLISH
X-WR-CALNAME:League of Professional Theatre Women
X-ORIGINAL-URL:http://archive.theatrewomen.org
X-WR-CALDESC:Events for League of Professional Theatre Women
BEGIN:VEVENT
DTSTART;TZID=America/New_York:20170517T190000
DTEND;TZID=America/New_York:20170604T150000
DTSTAMP:20260419T130618
CREATED:20170517T211232
LAST-MODIFIED:20170517T211232
UID:7316-1495047600-1496588400@archive.theatrewomen.org
SUMMARY:Richard III
DESCRIPTION:Shakespeare's Richard III\nMay 17 – June 4th\, 2017\nWednesdays through Saturdays @7PM\nSundays @3PM\n$20\nwww.smarttix.com or pay cash at the door\n\nAmerican Theatre of Actors\n314 West 54th Street\, 2nd floor\n212 581-3044
URL:http://archive.theatrewomen.org/event/richard-iii/
LOCATION:314 West 54th Street\, 2nd floor\, New York\, NY\, 10019\, United States
CATEGORIES:Member News & Events
END:VEVENT
END:VCALENDAR