BEGIN:VCALENDAR
VERSION:2.0
PRODID:-//League of Professional Theatre Women - ECPv4.2.7//NONSGML v1.0//EN
CALSCALE:GREGORIAN
METHOD:PUBLISH
X-WR-CALNAME:League of Professional Theatre Women
X-ORIGINAL-URL:http://archive.theatrewomen.org
X-WR-CALDESC:Events for League of Professional Theatre Women
BEGIN:VEVENT
DTSTART;TZID=America/New_York:20190428T150000
DTEND;TZID=America/New_York:20190428T170000
DTSTAMP:20260420T060126
CREATED:20190329T203925
LAST-MODIFIED:20190329T203925
UID:12778-1556463600-1556470800@archive.theatrewomen.org
SUMMARY:Reproductive Freedom Is What We Want
DESCRIPTION:Reproductive Freedom Is What We Want … soars in a tapestry of 14 powerful ‘shorts.’ These are stories from the heart: humorous and tender; poignant and riveting. Theater\, spoken word\, comedy\, poetry and oral history. “Smart\, funny\, endangered.” Award-Winning Theater: new pieces up-to-the moment\, and selections from our rep. We've traveled to 20 states and now a performance for New York City. Featuring Alinca Hamilton\, Donna Jean Fogel and Carl H. Jaynes\, in an dynamic ensemble performance directed by Francesca Mantani Arkus\, created by Cindy Cooper. Celebrate reproductive freedom through the powerful words of a dozen artists\, and find out what action you can take before it's too late. The 64-minute performance is followed by a discussion with Farah Diaz-Tello\, a leading reproductive justice lawyer now with the organization 'If\, When\, How\,' guiding law students to support reproductive freedom\, rights\, health and justice. Take out one afternoon to support our rights\, and arts that matter! All proceeds go to support reproductive health services.
URL:http://archive.theatrewomen.org/event/reproductive-freedom-is-what-we-want/
LOCATION:320 W. 37th Street\, New York\, NY\, 10018\, United States
CATEGORIES:Member News & Events
ATTACH;FMTTYPE=image/jpeg:http://archive.theatrewomen.org/wp-content/uploads/2019/03/ReproductiveFreedom-boot-announcmt.jpg
ORGANIZER;CN="Cindy%20Cooper":MAILTO:coopcyn@mindspring.com
END:VEVENT
END:VCALENDAR