BEGIN:VCALENDAR
VERSION:2.0
PRODID:-//League of Professional Theatre Women - ECPv4.2.7//NONSGML v1.0//EN
CALSCALE:GREGORIAN
METHOD:PUBLISH
X-WR-CALNAME:League of Professional Theatre Women
X-ORIGINAL-URL:http://archive.theatrewomen.org
X-WR-CALDESC:Events for League of Professional Theatre Women
BEGIN:VEVENT
DTSTART;TZID=America/New_York:20180917T193000
DTEND;TZID=America/New_York:20180920T133000
DTSTAMP:20260420T211215
CREATED:20180829T181747
LAST-MODIFIED:20180829T181747
UID:11489-1537212600-1537450200@archive.theatrewomen.org
SUMMARY:Readings of a new play in NYC
DESCRIPTION:My drama EMBRACING THE UNDERTOAD has two readings coming up.\n\n(1) An unstaged reading for industry. September 20\, 1:30\, Dramatist Guild Foundation (on 40th St.)\n(2) A directed\, staged reading for the public. September 17\, 7:30\, Wohl Center Theatre (Columbus Ave.)\n\nAll female cast. Lovers and sisters use secrets and pretend to create smooth surfaces for their lives. One stormy night the undertow of the unknown threatens to destroy them.\n\nTo rsvp for either event\, go to www.Eventbrite.com. Be sure to get the date you want.
URL:http://archive.theatrewomen.org/event/readings-of-a-new-play-in-nyc/
LOCATION:647 Columbus Ave. @91st St.\, New York\, NY\, United States
CATEGORIES:Member News & Events
ATTACH;FMTTYPE=image/jpeg:http://archive.theatrewomen.org/wp-content/uploads/2018/08/Banner-3.jpg
ORGANIZER;CN="29th%20Street%20Playwrights%20Collective":MAILTO:29thstplaywrightscollective@gmail.com
END:VEVENT
END:VCALENDAR