BEGIN:VCALENDAR
VERSION:2.0
PRODID:-//League of Professional Theatre Women - ECPv4.2.7//NONSGML v1.0//EN
CALSCALE:GREGORIAN
METHOD:PUBLISH
X-WR-CALNAME:League of Professional Theatre Women
X-ORIGINAL-URL:http://archive.theatrewomen.org
X-WR-CALDESC:Events for League of Professional Theatre Women
BEGIN:VEVENT
DTSTART;TZID=America/New_York:20170515T210000
DTEND;TZID=America/New_York:20170515T223000
DTSTAMP:20260419T204417
CREATED:20170501T144351
LAST-MODIFIED:20170501T144351
UID:7168-1494882000-1494887400@archive.theatrewomen.org
SUMMARY:Reading of "The Feeling Part" by Romy Nordlinger with The Playwriting Collective
DESCRIPTION:Reading of "The Feeling Part" written by Romy Nordlinger.\nThe Playwriting Collective's First Draft Reading Series at Jimmy's No. 43.\n43 E 7th St\, New York\, NY 10003\nAdmission is free of charge.\nGrab a drink at the bar if you like. Jimmy's No.43 has supported Off Off Bway since 1967 in its infamous back room.
URL:http://archive.theatrewomen.org/event/reading-of-the-feeling-part-by-romy-nordlinger-with-the-playwriting-collective/
LOCATION:43 E. 7th Street\, New York\, NY\, 10003\, United States
GEO:40.7283142;-73.988579
X-APPLE-STRUCTURED-LOCATION;VALUE=URI;X-ADDRESS=43 E. 7th Street New York NY 10003 United States;X-APPLE-RADIUS=500;X-TITLE=43 E. 7th Street:geo:-73.988579,40.7283142
CATEGORIES:Member News & Events
ORGANIZER;CN="Romy%20Nordlinger":MAILTO:romynordlinger123@gmail.com
END:VEVENT
END:VCALENDAR