BEGIN:VCALENDAR
VERSION:2.0
PRODID:-//League of Professional Theatre Women - ECPv4.2.7//NONSGML v1.0//EN
CALSCALE:GREGORIAN
METHOD:PUBLISH
X-WR-CALNAME:League of Professional Theatre Women
X-ORIGINAL-URL:http://archive.theatrewomen.org
X-WR-CALDESC:Events for League of Professional Theatre Women
BEGIN:VEVENT
DTSTART;TZID=America/New_York:20170918T190000
DTEND;TZID=America/New_York:20170918T213000
DTSTAMP:20260420T025347
CREATED:20170828T180411
LAST-MODIFIED:20170828T190906
UID:7829-1505761200-1505770200@archive.theatrewomen.org
SUMMARY:Project Shaw's A Man's World by Rachel Crothers
DESCRIPTION:Join PROJECT SHAW on Monday\, September 18th with a play written\, not by Shaw\, but by Rachel Crothers! A MAN’S WORLD is the logical next step in our theme for the year. This charming and powerfully entertaining play from 1910 dives into the inequalities we all face and the double standards in judging male/female behavior that seem never to go away. Award-winning Jenn Thompson will direct the evening!\n\nOur Noble Cast\nFRANK WARE ... MS. MARA DAVI\nMALCOLM GASKELL ... MR. ROBERT CUCCIOLI\nFRITZ BAHN ... MR. ARNIE BURTON\nCLARA OAKES ... MS. NANCY ANDERSON\nLIONE BRUNE ... MS. TALENE MONAHON\nKIDDIE WARE ... MR. FINN DOUGLAS\nWELLS TREVOR ... MR. BRANDON JONES\nEMILE GRIMEAUX ... MR. ARIEL ESTRADA\nNARRATOR ... MS. LAUREN YARGER\n\nAccording to GTG's David Staller: "As we continue to explore the work of playwrights sharing the vital humanitarian precepts so championed by Shaw\, we're thrilled to be presenting work by Rachel Crothers\, a pioneer writer in the world of exploring women's rights on the stage."\n\nThe 2017 Project Shaw Season WOMEN TAKE THE STAGE: Celebrating 100 years of Women’s Rights in NY continues with Rachel Crother’s A Man’s World (September 18)\, Captain Brassbound’s Conversion (October 23)\, Elizabeth Robins’s Votes for Women (November 20)\, and Oscar Wilde’s A Woman of No Importance (December 18).\n\nJENN THOMPSON (Director). Multiple Off-Broadway productions including The Mint's Women Without Men (2016 Drama Desk\, Lortel\, Off-Broadway Alliance Award nominee)\, Abundance (2015 Off-Broadway Alliance Award for Best Revival)\, and Lost In Yonkers (2012 Drama Desk nominee) for TACT/The Actors Company Theatre\, where she served as Artistic Director for 5 seasons. Regional: Goodspeed Opera House\, Hartford Stage\, St. Louis Rep\, City Theatre\, Barrington Stage\, Pioneer\, Portland Stage\, TheaterWorks Hartford\, Dorset Theatre Festival\, River Rep. A 2012 finalist for the SDC’s Joe A. Callaway Award\, for excellence in New York City directing\, Jenn is married to actor Stephen Kunken. They live in Brooklyn with their daughter\, Naomi.
URL:http://archive.theatrewomen.org/event/project-shaws-a-mans-world-by-rachel-crothers/
LOCATION:95th and Broadway\, New York\, NY\, United States
GEO:40.7940481;-73.9724116
X-APPLE-STRUCTURED-LOCATION;VALUE=URI;X-ADDRESS=95th and Broadway New York NY United States;X-APPLE-RADIUS=500;X-TITLE=95th and Broadway:geo:-73.9724116,40.7940481
CATEGORIES:Member News & Events
ATTACH;FMTTYPE=image/jpeg:http://archive.theatrewomen.org/wp-content/uploads/2017/08/Mans-poster-4.jpg
ORGANIZER;CN="Project%20Shaw":MAILTO:gingoldgroup.org
END:VEVENT
END:VCALENDAR