BEGIN:VCALENDAR
VERSION:2.0
PRODID:-//League of Professional Theatre Women - ECPv4.2.7//NONSGML v1.0//EN
CALSCALE:GREGORIAN
METHOD:PUBLISH
X-WR-CALNAME:League of Professional Theatre Women
X-ORIGINAL-URL:http://archive.theatrewomen.org
X-WR-CALDESC:Events for League of Professional Theatre Women
BEGIN:VEVENT
DTSTART;TZID=America/New_York:20180118T210000
DTEND;TZID=America/New_York:20180118T220000
DTSTAMP:20260421T205045
CREATED:20180110T215230
LAST-MODIFIED:20180110T215230
UID:8438-1516309200-1516312800@archive.theatrewomen.org
SUMMARY:play reading of BUSTING GHOSTS at La MaMa Galleria
DESCRIPTION:Reading of a new comedy play by Peggy Howard Chane\nDirected by Nicole Franklin\nStarring:\nLaura Sweeney\nPeter Collier\nJames B. Kennedy\nRicharda Abrams\nTodd Sherrod\n\nTwo entrepreneurs rocket to fame on the Fortune 500 List once they are killed in a poker game.
URL:http://archive.theatrewomen.org/event/play-reading-of-busting-ghosts-at-la-mama-galleria/
LOCATION:47 Great Jones Street\, New York\, NY\, United States
CATEGORIES:Member News & Events
ATTACH;FMTTYPE=image/jpeg:http://archive.theatrewomen.org/wp-content/uploads/2018/01/InviteGHOSTS.jpg
END:VEVENT
END:VCALENDAR