BEGIN:VCALENDAR
VERSION:2.0
PRODID:-//League of Professional Theatre Women - ECPv4.2.7//NONSGML v1.0//EN
CALSCALE:GREGORIAN
METHOD:PUBLISH
X-WR-CALNAME:League of Professional Theatre Women
X-ORIGINAL-URL:http://archive.theatrewomen.org
X-WR-CALDESC:Events for League of Professional Theatre Women
BEGIN:VEVENT
DTSTART;VALUE=DATE:20190426
DTEND;VALUE=DATE:20190426
DTSTAMP:20260419T233553
CREATED:20170605
LAST-MODIFIED:20190426
UID:7447-1556236800-1556323199@archive.theatrewomen.org
SUMMARY:Thank you for attending Charlie’s Waiting
DESCRIPTION:Thank you for attending Charlie's Waiting by Mêlisa Annis. Charlie's Waiting was directed by League member Ludovica Villar-Hauser\, and ran at Theaterlab from March 28th through April 20th.\n\nSome praise for Charlie's Waiting:\n"...a taut\, very funny\, and brilliantly played dance of wits and emotions."\n- Jon Sobel\, Blogcritics\n\n“…demonstrates its young author’s flair for weaving comedy and drama together\, as well as a wicked imagination.”\n- Leslie R. Herman\, Off Off Online\n\n"Playwright Mêlisa Annis provides a thought-provoking\, well-crafted script."\n- Shoshana Robers\, Theatre Is Easy
URL:http://archive.theatrewomen.org/event/places-the-play/
LOCATION:357 West 36th Street\, 3rd Floor\, New York\, NY\, 10018\, United States
GEO:40.7545052;-73.9946137
X-APPLE-STRUCTURED-LOCATION;VALUE=URI;X-ADDRESS=357 West 36th Street 3rd Floor New York NY 10018 United States;X-APPLE-RADIUS=500;X-TITLE=357 West 36th Street\, 3rd Floor:geo:-73.9946137,40.7545052
CATEGORIES:Member News & Events
ATTACH;FMTTYPE=image/jpeg:http://archive.theatrewomen.org/wp-content/uploads/2017/06/042619-Thank-you-for-attending-LPTW-eblast.jpg
ORGANIZER;CN="Parity%20Productions":MAILTO:ludovica@parityproductions.org
END:VEVENT
END:VCALENDAR