BEGIN:VCALENDAR
VERSION:2.0
PRODID:-//League of Professional Theatre Women - ECPv4.2.7//NONSGML v1.0//EN
CALSCALE:GREGORIAN
METHOD:PUBLISH
X-WR-CALNAME:League of Professional Theatre Women
X-ORIGINAL-URL:http://archive.theatrewomen.org
X-WR-CALDESC:Events for League of Professional Theatre Women
BEGIN:VEVENT
DTSTART;TZID=Europe/London:20170803T170000
DTEND;TZID=Europe/London:20170803T180000
DTSTAMP:20260420T042002
CREATED:20170725T142647
LAST-MODIFIED:20170725T142647
UID:7649-1501779600-1501783200@archive.theatrewomen.org
SUMMARY:Places the Play in Edinburgh
DESCRIPTION:“It is in aligning the past with the present that this production PLACES is its most trenchant\, vital\, and significant for our time.” - Carole Di Tosti\, Theater Pizzazz\n\nPLACES includes the following League members: Jennifer Kranz\, Katie McHugh\, Romy Nordlinger\, and Ludovica Villar-Hauser.\n\nPLACES will be at the New Town Theatre (Venue 7)\, Edinburgh Fringe Festival\, August 3-27. Tell your friends. Buy tickets: http://bit.ly/2tzK8HI
URL:http://archive.theatrewomen.org/event/places-the-play-in-edinburgh/2017-08-03/
LOCATION:96 George Street\, Edinburgh\, EH2 3DH\, United Kingdom
CATEGORIES:Member News & Events
ATTACH;FMTTYPE=image/png:http://archive.theatrewomen.org/wp-content/uploads/2017/07/072417-PLACES-LPTW-Member-Ad2.png
ORGANIZER;CN="Parity%20Productions":MAILTO:ludovica@parityproductions.org
END:VEVENT
END:VCALENDAR