BEGIN:VCALENDAR
VERSION:2.0
PRODID:-//League of Professional Theatre Women - ECPv4.2.7//NONSGML v1.0//EN
CALSCALE:GREGORIAN
METHOD:PUBLISH
X-WR-CALNAME:League of Professional Theatre Women
X-ORIGINAL-URL:http://archive.theatrewomen.org
X-WR-CALDESC:Events for League of Professional Theatre Women
BEGIN:VEVENT
DTSTART;TZID=America/New_York:20170606T190000
DTEND;TZID=America/New_York:20170611T140000
DTSTAMP:20260419T155823
CREATED:20170509T154003
LAST-MODIFIED:20170509T160529
UID:7209-1496775600-1497189600@archive.theatrewomen.org
SUMMARY:PICK YOUR EAR PRODUCTIONS presents: Merciful Delusions: An Evening of Six One Act Plays by Tennessee Williams
DESCRIPTION:PICK YOUR EAR PRODUCTIONS is pleased to present a repertoire of what may be considered some of Tennessee Williams’ most popular one act plays\, produced by Nicole Gut and directed by Tony Award nominee\, Lorraine Serabian.\n\nIncluded will be Hello from Bertha\, The Lady of Larkspur Lotion\, Moony's Kid Don't Cry\, A Perfect Analysis Given by a Parrot\, The Case of the Crusted Petunias\, and This Property is Condemned.\n\nFeatured in “Hello from Bertha” and “A Perfect Analysis Given by a Parrot\,” will be Nicole Gut.\n\nHELLO FROM BERTHA: This one act play was written in 1946. The story takes place in a bedroom of an East St. Louis brothel. Bertha\, a prostitute\, is very sick and has been lying in bed for two weeks. Goldie\, the madam\, needs the room for business. She wants Bertha to leave\, and tells her to go back home or to a hospital. Bertha is very much alone. In her delirium\, Bertha relives the moments of her past love\, Charlie\, as well as former events and delusions.\n\nA PERFECT ANALYSIS GIVEN BY A PARROT: Written in 1958\, is a delightful short play about two fading\, overdressed ladies of a certain age\, who are members of the Ladies’ Auxiliary of the “Sons of Mars” and hit the city of St. Louis for the annual convention. However\, in their search for “men” and a “good time\,” they get separated from their party and wind up in a third-rate bar\, drinking beer and trying hard to be cheerful. Each is soon finding fault with the other and they are resigned to having a miserable time\, when all of a sudden\, the doors burst open and a pair of “Sons of Mars\,” leapfrog in to save these damsels-in-distress.\n\nCast members include: Lena Clark\, Patricia Clune\, Jen Fellman\,\nMelanie Futorian\, Brandon Grimes\, Michael S. Horowitz\, Elizabeth Maille\,\nJason Min\, Katherine O’Sullivan\, Maria Sivakova\, Natapong Theansawatkit\,\nCory Walker.\n\nAbout Producer Nicole Gut and Director Lorraine Serabian:\n\nFounder of “Pick Your Ear Productions\,” NICOLE GUT studied at the Neighborhood Playhouse\, and had performed in “Evita\,” and “A Chorus Line” in New Hampshire\, prior to joining the European tour of “Hair” for eight months. An aficionado of\nTennessee Williams\, Nicole has been featured in “Hello From Bertha” and “The Lady of Larkspur Lotion” at Theatre 54\, and most recently appeared in “Never-the-less She Persisted” at The Kraine Theatre and “Book Club” at The Barrow Group Mainstage Theatre.\n\nA prolific singer/songwriter and keyboardist\, Nicole has played with various bands\nthroughout Germany and Switzerland and has written a musical called “Rockstar.”\n\nLORRAINE SERABIAN has a long and varied career in regional and international theatre\, film and TV. With a degree in Theatre Arts from Hofstra University where she was honored with the George M. Estabrooke Award for Distinguished Service in the Arts\, accompanied by a citation from the Congress of the United States\, she created the role of The Leader in Hal Prince's ZORBA\, for which she received a Tony Award nomination and Outer Critics Circle Award. Grounded in the work\nof her teacher\, Uta Hagen\, her directorial approach is to enable actors to explore\, thrive and take risks by teaching universal concepts and techniques. She fosters a nurturing approach to the craft of acting by insuring safety and trust in the growth process. Her recent credits in her ongoing acting career includes “The Jim Gaffigan Show\,” Amy Poehler’s “Difficult People” and a new musical TBA.
URL:http://archive.theatrewomen.org/event/pick-your-ear-productions-presents-merciful-delusions-an-evening-of-six-one-act-plays-by-tennessee-williams/
LOCATION:124 Bank Street West Village\, New York\, NY\, United States
CATEGORIES:Member News & Events
ATTACH;FMTTYPE=image/jpeg:http://archive.theatrewomen.org/wp-content/uploads/2017/05/image001.jpg
END:VEVENT
END:VCALENDAR