BEGIN:VCALENDAR
VERSION:2.0
PRODID:-//League of Professional Theatre Women - ECPv4.2.7//NONSGML v1.0//EN
CALSCALE:GREGORIAN
METHOD:PUBLISH
X-WR-CALNAME:League of Professional Theatre Women
X-ORIGINAL-URL:http://archive.theatrewomen.org
X-WR-CALDESC:Events for League of Professional Theatre Women
BEGIN:VEVENT
DTSTART;TZID=America/New_York:20170530T080000
DTEND;TZID=America/New_York:20170605T170000
DTSTAMP:20260419T131338
CREATED:20170412T192426
LAST-MODIFIED:20170503T212644
UID:7069-1496131200-1496682000@archive.theatrewomen.org
SUMMARY:PanNYC Workshop 2017
DESCRIPTION:Nettles Artists Collective is proud to bring to New York another PanNYC Workshop series for 2017.\n\nTO REGISTER: http://bit.ly/pannyc2017\n\nRenowned Paris-based Pantheatre will be offering its training by artistic directors Enrique Pardo and Linda Wise in NYC. This year PanNYC will have a seven day intensive on Voice Performance and Choreographic Theatre\, as well as a seminar and an open session with invited artists. Oracles and Background Singers is the theme presented by Linda Wise and Enrique Pardo this year. It will be a reflection on the background vocalists’ voice from the point of view of Choreographic Theater and of what we call Voice Performance. The purpose is to work on the back-up voices with a ‘metaphysical’ perspective.\n\nWho are these voices? Where do they come from? What is their place? To whom do they belong? And what do they say?\n\n“The invitation here is to listen and to think about these voices\, these spirits\, not so much in terms of spirituality but rather in terms of spiritism - a notion and an attitude that needs redefining in terms of how we listen to and how we hear these voices. Also\, in terms of how we read and transpose their dramaturgical and metaphysical contents – i.e. the performances we make with them. This is crucial to an understanding of what is implied in voice extended ranges – certainly in Roy Hart’s vision\, certainly in choreographic theater.” (Enrique Pardo)​\n\nTO REGISTER: http://bit.ly/pannyc2017\n\nABOUT THE NETTLES\nWe imbue the American art scene with authentic\, global voices and multidisciplinary collaborations by providing a platform for the performing and visual arts. www.nettlesartists.com Proud resident company at Punto Space. www.puntospace.com\n\nABOUT PANTHEATRE\n\nFounded in 1981 by Enrique Pardo\, co-directed with Linda Wise\, Pantheatre was the first independent company to emerge from the Roy Hart Theatre. It included the voice work in choreographic theatre (through corporal mime\, dance and actor's physical training in the Grotowsky / Odin lineage.) It was deeply inspired by the cultural ideas of archetypal psychology\, especially those of its founder\, James Hillman.\nBased in Paris (October to March)\, and at Malérargues\, the Roy Hart International Arts Centre\, in Southern France (May to September)\, where it organizes study and training residencies\, workshops and the Myth and Theatre Festival (July)
URL:http://archive.theatrewomen.org/event/pannyc-workshop-2017/
LOCATION:325 West 38th Street\, New York\, NY\, 10018\, United States
GEO:40.7554201;-73.9927316
X-APPLE-STRUCTURED-LOCATION;VALUE=URI;X-ADDRESS=325 West 38th Street New York NY 10018 United States;X-APPLE-RADIUS=500;X-TITLE=325 West 38th Street:geo:-73.9927316,40.7554201
CATEGORIES:Member News & Events
ATTACH;FMTTYPE=image/jpeg:http://archive.theatrewomen.org/wp-content/uploads/2017/04/Nettles-PanNYC-2017-flier.jpg
ORGANIZER;CN="Nettles%20Artists%20Collective":MAILTO:nettlesartists@gmail.com
END:VEVENT
END:VCALENDAR