BEGIN:VCALENDAR
VERSION:2.0
PRODID:-//League of Professional Theatre Women - ECPv4.2.7//NONSGML v1.0//EN
CALSCALE:GREGORIAN
METHOD:PUBLISH
X-WR-CALNAME:League of Professional Theatre Women
X-ORIGINAL-URL:http://archive.theatrewomen.org
X-WR-CALDESC:Events for League of Professional Theatre Women
BEGIN:VEVENT
DTSTART;TZID=America/New_York:20190207T020000
DTEND;TZID=America/New_York:20190207T160000
DTSTAMP:20260420T121451
CREATED:20190208T193916
LAST-MODIFIED:20190208T194009
UID:12408-1549504800-1549555200@archive.theatrewomen.org
SUMMARY:Panel: How to Get Your Play or Musical Read\, Published\, Produced
DESCRIPTION:You asked\, we answered. How to get a play in front of the right people and get it produced is once of the most often asked questions we have hear from members of the CT Chapter of the League of Professional Theatre Women. Co-Founder Mary Miko has assembled a panel of experts to discuss the topic and answer questions during a panel discussion Thursday\, Feb. 7\, from 2 to 4 pm at the Klein Memorial Auditorium\, 910 Fairfield Ave.\, Bridgeport.
URL:http://archive.theatrewomen.org/event/panel-how-to-get-your-play-or-musical-read-published-produced/
LOCATION:910 Fairfield Avenue\, Bridgeport\, CT\, 06605\, United States
CATEGORIES:Member News & Events
ORGANIZER;CN="Mary%20Miko%2C%20CT%20Chapter":MAILTO:mmiko@goodspeed.org
END:VEVENT
END:VCALENDAR