BEGIN:VCALENDAR
VERSION:2.0
PRODID:-//League of Professional Theatre Women - ECPv4.2.7//NONSGML v1.0//EN
CALSCALE:GREGORIAN
METHOD:PUBLISH
X-WR-CALNAME:League of Professional Theatre Women
X-ORIGINAL-URL:http://archive.theatrewomen.org
X-WR-CALDESC:Events for League of Professional Theatre Women
BEGIN:VEVENT
DTSTART;TZID=America/New_York:20151116T180000
DTEND;TZID=America/New_York:20151116T200000
DTSTAMP:20260419T174432
CREATED:20150908T192805
LAST-MODIFIED:20151029T184126
UID:4298-1447696800-1447704000@archive.theatrewomen.org
SUMMARY:Oral History: Charlotte Moore interviewed by Michael Riedel
DESCRIPTION:League of Professional Theatre Women presents:\n\nORAL HISTORY: CHARLOTTE MOORE INTERVIEWED BY MICHAEL RIEDEL\n \nMonday\, November 16\, 2015\, 6:00PM\nBruno Walter Auditorium\nNew York Public Library for the \nPerforming Arts at Lincoln Center\n65th Street & Amsterdam Avenue\nLPTW Members\, Friends of the League\, Board Members of New York Women’s Agenda and Women in the Arts & Media Coalition: \nFREE Admission\, Seating First Come First Served.\nRSVP here with code: https://web.ovationtix.com/trs/pe.c/10038724\nThis program is produced by Betty Corwin with Pat Addiss and LVH.\nThe Oral History program enjoys continued support from The Edith Meiser Foundation.\nThis program is made possible\, in part\, with public funds from the NYC Department of Cultural Affairs\, in partnership with the City Council.\n\nCHARLOTTE MOORE thinks she has directed about sixty three or sixty four productions for The Irish Repertory Theatre which she founded twenty eight years ago in 1988 with Ciaran O'Reilly. Some of them\, however\, she has directed twice and a few three times. Ms. Moore has appeared in eleven Broadway productions and many off-Broadway productions\, whose directors include John Tillinger\, Paul Weidner\, Stephen Porter\, Ellis Raab\,  Vivian Matelon\, Michael Montel and Harold Prince. A few of those appearances include MEET ME IN ST LOUIS\, A PERFECT GANESH\, THE PERFECT PARTY\, THE VISIT\, MOLIERE'S DON JUAN\, MORNINGS AT SEVEN\, HOLIDAY\, and PRIVATE LIVES (with Elizabeth Taylor and Richard Burton.) She has been nominated for a Tony\, won the Outer Critics Circle award\, The Drama Desk Award\, The Drama League Award\, The Irish Top 100 Award\, the Eugene O'Neill Lifetime Achievement Award and has been named "Director of the Year" by the Wall Street Journal. She has a Master's degree from Washington University in St. Louis. Ms. Moore completely credits Ciaran O'Reilly for the success of The Irish Repertory Theatre.\nMICHAEL RIEDEL is the theater columnist for The New York Post and co-host of Theater Talk on PBS. His first book\, "Razzle Dazzle: The Battle for Broadway\," was published by Simon and Schuster in October. Michael is a panelist on the "Imus in the Morning" radio program and appears regularly on Fox News Channel's "Red Eye." He graduated from Columbia University with a B.A. in history.
URL:http://archive.theatrewomen.org/event/oral-history/
LOCATION:65th Street and Amsterdam Avenue\, New York\, 10023\, United States
GEO:40.7741641;-73.9848426
X-APPLE-STRUCTURED-LOCATION;VALUE=URI;X-ADDRESS=65th Street and Amsterdam Avenue New York 10023 United States;X-APPLE-RADIUS=500;X-TITLE=65th Street and Amsterdam Avenue:geo:-73.9848426,40.7741641
ATTACH;FMTTYPE=image/png:http://archive.theatrewomen.org/wp-content/uploads/2015/09/Oral-History.png
END:VEVENT
END:VCALENDAR