BEGIN:VCALENDAR
VERSION:2.0
PRODID:-//League of Professional Theatre Women - ECPv4.2.7//NONSGML v1.0//EN
CALSCALE:GREGORIAN
METHOD:PUBLISH
X-WR-CALNAME:League of Professional Theatre Women
X-ORIGINAL-URL:http://archive.theatrewomen.org
X-WR-CALDESC:Events for League of Professional Theatre Women
BEGIN:VEVENT
DTSTART;TZID=America/New_York:20170605T180000
DTEND;TZID=America/New_York:20170605T190000
DTSTAMP:20260419T114501
CREATED:20170517T183641
LAST-MODIFIED:20170517T183641
UID:7320-1496685600-1496689200@archive.theatrewomen.org
SUMMARY:Oral History: Tony Nominated Playwright & Pulitzer Prize Winner Paula Vogel Interviewed by Drama Critic Linda Winer
DESCRIPTION:Monday\, June 5th\n6pm\n\nThe Bruno Walter Auditorium\nNew York Public Library for the Performing Arts at Lincoln Center\nAt the corner of 65th Street & Amsterdam\n\nPaula Vogel's play INDECENT is currently on Broadway and is nominated for Best Play in the Tony Awards. She has also been honored with a Lifetime Achievement Obie Award and is a Pulitzer Prize winner.\n\nThis program is produced by Betty Corwin\, with Pat Addiss and Sophia Romma.\n\nFree admission. First come\, first seated.\n\nThis program is made possible\, in part\, with public funds from the NYC Department of Cultural Affairs\, in partnership with the City Council\, and with funds from the NYS Council on the Arts\, a state agency\, with support of Governor Andrew M. Cuomo. The Oral History Project also enjoys continued support from the Edith Meiser Foundation.\n\n\n
URL:http://archive.theatrewomen.org/event/oral-history-tony-nominated-playwright-pulitzer-prize-winner-paula-vogel-interviewed-by-drama-critic-linda-winer/
LOCATION:65th Street and Amsterdam Avenue\, New York\, 10023\, United States
GEO:40.7741641;-73.9848426
X-APPLE-STRUCTURED-LOCATION;VALUE=URI;X-ADDRESS=65th Street and Amsterdam Avenue New York 10023 United States;X-APPLE-RADIUS=500;X-TITLE=65th Street and Amsterdam Avenue:geo:-73.9848426,40.7741641
CATEGORIES:Oral History
ATTACH;FMTTYPE=image/png:http://archive.theatrewomen.org/wp-content/uploads/2017/05/Capture-1.png
END:VEVENT
END:VCALENDAR