BEGIN:VCALENDAR
VERSION:2.0
PRODID:-//League of Professional Theatre Women - ECPv4.2.7//NONSGML v1.0//EN
CALSCALE:GREGORIAN
METHOD:PUBLISH
X-WR-CALNAME:League of Professional Theatre Women
X-ORIGINAL-URL:http://archive.theatrewomen.org
X-WR-CALDESC:Events for League of Professional Theatre Women
BEGIN:VEVENT
DTSTART;TZID=America/New_York:20160217T183000
DTEND;TZID=America/New_York:20160217T200000
DTSTAMP:20260419T131406
CREATED:20160107T211253
LAST-MODIFIED:20160203T155837
UID:4656-1455733800-1455739200@archive.theatrewomen.org
SUMMARY:ON HER SHOULDERS: Georgia Douglas Johnson
DESCRIPTION:On Her Shoulders\nin association with New Perspectives Theatre Company and the New School for Drama presents a reading of a play by\nGeorgia Douglas Johnson\nDirected by Elizabeth Van Dyke\nOn Her Shoulders is pleased to present a FREE staged reading of a play by Georgia Douglas Johnson\, directed by Elizabeth Van Dyke on Wednesday\, February 17\, 2016. Doors open at 6:30pm. The Play in Context\, which situates the script in its historical time and place\, kicks off the evening at 6:45pm. The performance is at The New School\, Wollman Hall\, 65 West 11th Street.\nRSVP to:\n OnHerShouldersReservations@gmail.com\nGEORGIA DOUGLAS JOHNSON was an early 20th-century African-American playwright\, who is best known for her plays dealing with lynching.\nELIZABETH VAN DYKE is the founder and producer of GOING TO THE RIVER series at EST\, which features new plays by women of color.\nON HER SHOULDERS was founded in 2012 to present rehearsed\, staged readings of plays by women from across the spectrum of time\, with contemporary dramaturgs contextualizing–and in some cases adapting–them for modern audiences. The program seeks to make it impossible to deny or ignore the 1\,000-year great tradition and value of women’s contribution to the theatrical canon. OHS became a program of NPTC in August 2013.\n\nNEW PERSPECTIVES THEATRE COMPANY (NPTC) is an award-winning\, multi-racial company now in its 25th season. The Company’s mission is to develop and produce new plays and playwrights\, especially women and people of color; to present classic plays in a style that addresses contemporary issues; and to extend the benefits of theatre to young people and communities in need. Our aim is not to exclude\, but to cast a wider net.  www.nptnyc.org\n\nTHE NEW SCHOOL FOR DRAMA: The creative home for the future of performing arts. Agile. Engaged. Innovative. Multi-disciplinary. The New School for Drama is home to a dynamic group of young directors\, writers\, actors\, creative technologists\, and award-winning faculty. With a core belief in rigorous creativity and collaborative learning\, our programs embrace civic awareness across performance disciplines to create work imbued with professionalism\, imagination and social context. For more information\, please visitwww.newschool.edu/drama\n\nThe Play in Context\, the dramaturgical and scholarly presentation component to the program\, is sponsored in part by the League of Professional Theatre Women\, a non-profit organization promoting visibility and increasing opportunities for women in theatre since 1982. www.theatrewomen.org
URL:http://archive.theatrewomen.org/event/on-her-shoulders-georgia-douglas-johnson/
LOCATION:65 West 11th Street\, New York\, NY\, United States
GEO:40.7352563;-73.9975083
X-APPLE-STRUCTURED-LOCATION;VALUE=URI;X-ADDRESS=65 West 11th Street New York NY United States;X-APPLE-RADIUS=500;X-TITLE=65 West 11th Street:geo:-73.9975083,40.7352563
ATTACH;FMTTYPE=image/png:http://archive.theatrewomen.org/wp-content/uploads/2015/11/on-her-shoulders.png
END:VEVENT
END:VCALENDAR