BEGIN:VCALENDAR
VERSION:2.0
PRODID:-//League of Professional Theatre Women - ECPv4.2.7//NONSGML v1.0//EN
CALSCALE:GREGORIAN
METHOD:PUBLISH
X-WR-CALNAME:League of Professional Theatre Women
X-ORIGINAL-URL:http://archive.theatrewomen.org
X-WR-CALDESC:Events for League of Professional Theatre Women
BEGIN:VEVENT
DTSTART;TZID=America/New_York:20170418T150000
DTEND;TZID=America/New_York:20170418T163000
DTSTAMP:20260421T094419
CREATED:20170410T173957
LAST-MODIFIED:20170410T205409
UID:6804-1492527600-1492533000@archive.theatrewomen.org
SUMMARY:ON HER SHOULDERS Collected Essays Publication Launch
DESCRIPTION:TUESDAY\, APRIL 18th\n3:00pm - 4:30pm\nNew Perspectives Studio\n458 West 37 Street at 10th Avenue\n \nPlease join us as New Perspectives launches their\nFirst-Ever Publication!\n\nON HER SHOULDERS\nCollected Essays on Women Playwrights from the Past\n\n \n“Play in Context” essays* and biographies highlighting 30 plays from 26 writers spanning the years 1668 to 1966\n \nWith essays by:\nMelissa Attebery\, Celia Braxton\, Melody Brooks\, Barbara Cohen-Stratyner\, Melissa Conkling\, Sherry Engle\, Mari Lyn Henry\, Morgan Jenness\,  Susan Jonas\, Shana Komitee\, Andrea Lepcio\, Loren Noveck\, Sadah "Espii" Proctor\, Tasha Gordon Solomon\, Arminda Thomas\, Heather Violanti\, Elizabeth Whitney\n \nCome and raise a glass to this achievement and to honor the theatre women who came before us! \nGet your personal copy\, hot off the press!\n \nSpecial Guest: LPTW Member Mari Lyn Henry\nChair of the Heritage Program of the League of Professional Theatre Women will share the words and wisdom of\nMartha Morton (1865-1925) founder of the American Society of Dramatic Authors which would become the Dramatists Guild!\n \nRSVP:\n212-630-9945 OR contact@nptnyc.org\n\n*The Play in Context component of ON HER SHOULDERS is supported\, in part\, by the LPTW.\n
URL:http://archive.theatrewomen.org/event/on-her-shoulders-collected-essays-publication-launch/
LOCATION:456 W 37th Street\, New York\, NY\, United States
GEO:40.7561605;-73.9974851
X-APPLE-STRUCTURED-LOCATION;VALUE=URI;X-ADDRESS=456 W 37th Street New York NY United States;X-APPLE-RADIUS=500;X-TITLE=456 W 37th Street:geo:-73.9974851,40.7561605
CATEGORIES:On Her Shoulders
ATTACH;FMTTYPE=image/png:http://archive.theatrewomen.org/wp-content/uploads/2017/04/Capture.png
ORGANIZER;CN="":MAILTO:contact@nptnyc.org
END:VEVENT
END:VCALENDAR