BEGIN:VCALENDAR
VERSION:2.0
PRODID:-//League of Professional Theatre Women - ECPv4.2.7//NONSGML v1.0//EN
CALSCALE:GREGORIAN
METHOD:PUBLISH
X-WR-CALNAME:League of Professional Theatre Women
X-ORIGINAL-URL:http://archive.theatrewomen.org
X-WR-CALDESC:Events for League of Professional Theatre Women
BEGIN:VEVENT
DTSTART;VALUE=DATE:20161202
DTEND;VALUE=DATE:20170122
DTSTAMP:20260421T082741
CREATED:20161202
LAST-MODIFIED:20161202
UID:5530-1480636800-1485129599@archive.theatrewomen.org
SUMMARY:Oh\, Hello on Broadway - Submitted by Amanda Pekoe
DESCRIPTION:"Stupendously entertaining! Give it up for Nick Kroll and John Mulaney! They are an army of only two\, yet they seem destined to conquer and slay anyone who ventures into the Lyceum Theatre." - The New York Times\n\n“John Mulaney and Nick Kroll hold a theater crowd in their loony spell for a giddy\, galloping 90 minutes. Their brand of comedy is a winning melange of all the brows: low\, middle and high.” -The Washington Post\n\n"A New York must!" - Time Out New York\n\n“Strap yourself into the rollercoaster and ride along for 95 minutes of hilarious insanity." - The Huffington Post\n\nTwo of the most original voices in comedy today\, Nick Kroll (Comedy Central's "Kroll Show") and John Mulaney (Netflix's "The Comeback Kid")\, make their brilliant and bizarre Broadway debuts in Oh\, Hello on Broadway! They take the stage as their acclaimed alter egos\, Gil Faizon and George St. Geegland - outrageously opinionated\, 70-something\, self-proclaimed "legendary" bachelors of New York's Upper West Side. No one who sees it will be the same\, nor will they be that different.
URL:http://archive.theatrewomen.org/event/oh-hello-on-broadway/
LOCATION:149 W 45th Street\, New York\, NY\, 10036\, United States
GEO:40.7577766;-73.9845441
X-APPLE-STRUCTURED-LOCATION;VALUE=URI;X-ADDRESS=149 W 45th Street New York NY 10036 United States;X-APPLE-RADIUS=500;X-TITLE=149 W 45th Street:geo:-73.9845441,40.7577766
CATEGORIES:Member News & Events
ATTACH;FMTTYPE=image/jpeg:http://archive.theatrewomen.org/wp-content/uploads/2016/12/unnamed.jpg
END:VEVENT
END:VCALENDAR