BEGIN:VCALENDAR
VERSION:2.0
PRODID:-//League of Professional Theatre Women - ECPv4.2.7//NONSGML v1.0//EN
CALSCALE:GREGORIAN
METHOD:PUBLISH
X-WR-CALNAME:League of Professional Theatre Women
X-ORIGINAL-URL:http://archive.theatrewomen.org
X-WR-CALDESC:Events for League of Professional Theatre Women
BEGIN:VEVENT
DTSTART;VALUE=DATE:20161218
DTEND;VALUE=DATE:20170111
DTSTAMP:20260421T094321
CREATED:20161202
LAST-MODIFIED:20161202
UID:5559-1482019200-1484179199@archive.theatrewomen.org
SUMMARY:No Man's Land
DESCRIPTION:November 18 - December 11\n\nTheaterLab 357\nWest 36th Street\, 3rd Floor\nBetween 8th and 9th Avenues\n\nFour actors set out to wrestle to the stage the true story of American Dad\, Jeremiah Heaton\, who planted a flag in the African desert to make his daughter a true Princess. They attempt to expose this modern day fairy tale’s roots in systemic racism and white privilege. What follows is an outrageous\, inappropriate and sometimes painful confrontation with their own bias as they take the journey to telling a new story.\n\nTickets: $12
URL:http://archive.theatrewomen.org/event/no-mans-land/
LOCATION:West 36th Street\, 3rd Floor\, New York\, NY\, 10018\, United States
GEO:40.753474;-73.992528
X-APPLE-STRUCTURED-LOCATION;VALUE=URI;X-ADDRESS=West 36th Street 3rd Floor New York NY 10018 United States;X-APPLE-RADIUS=500;X-TITLE=West 36th Street\, 3rd Floor:geo:-73.992528,40.753474
CATEGORIES:Member News & Events
ATTACH;FMTTYPE=image/jpeg:http://archive.theatrewomen.org/wp-content/uploads/2016/12/unnamed-2.jpg
END:VEVENT
END:VCALENDAR