BEGIN:VCALENDAR
VERSION:2.0
PRODID:-//League of Professional Theatre Women - ECPv4.2.7//NONSGML v1.0//EN
CALSCALE:GREGORIAN
METHOD:PUBLISH
X-WR-CALNAME:League of Professional Theatre Women
X-ORIGINAL-URL:http://archive.theatrewomen.org
X-WR-CALDESC:Events for League of Professional Theatre Women
BEGIN:VEVENT
DTSTART;TZID=America/New_York:20171015T150000
DTEND;TZID=America/New_York:20171015T170000
DTSTAMP:20260421T083138
CREATED:20171002T215355
LAST-MODIFIED:20180622T142727
UID:8118-1508079600-1508086800@archive.theatrewomen.org
SUMMARY:NO LONGER WITHOUT YOU - A Performance Piece By And With Adelheid Roosen
DESCRIPTION:Details : performance piece was written and performed by Adelheid Roosen with a post-show cocktail party\, co-hosted by the Dutch Consulate at the French Institute/Alliance Française\, 22 East 60th Street; Use Discount Code LPTW20 for $20 tickets!\nhttp://www.fiaf.org/emails/invites/2017/2017-CTL-roosen-reception.html
URL:http://archive.theatrewomen.org/event/no-longer-without-you-a-performance-piece-by-and-with-adelheid-roosen/
LOCATION:22 East 60th Street\, New York\, NY\, United States
END:VEVENT
END:VCALENDAR