BEGIN:VCALENDAR
VERSION:2.0
PRODID:-//League of Professional Theatre Women - ECPv4.2.7//NONSGML v1.0//EN
CALSCALE:GREGORIAN
METHOD:PUBLISH
X-WR-CALNAME:League of Professional Theatre Women
X-ORIGINAL-URL:http://archive.theatrewomen.org
X-WR-CALDESC:Events for League of Professional Theatre Women
BEGIN:VEVENT
DTSTART;TZID=America/New_York:20190406T070000
DTEND;TZID=America/New_York:20190406T220000
DTSTAMP:20260420T060253
CREATED:20190220T202229
LAST-MODIFIED:20190220T202229
UID:12457-1554534000-1554588000@archive.theatrewomen.org
SUMMARY:"Mob's Murder Mystery"  Dinner Theater by AspenDream Productions to benefit Amerigo Vespucci lodge Danbury ct
DESCRIPTION:Guests never know who to expect. But at this thrilling\, hilarious\, murder mystery show\, they’ll know what to expect – a great meal and a fantastic evening. AspenDream Productions™\, CT longest-running murder mystery comedy dinner show\, puts on an action-packed performance where everyone is considered a suspect.\n\nGuests will be assigned a name tag and are encouraged to attend dressed ready to play the role of a gangster\, movie star\, politician\, and friend to the well-respected “Uncle Franco”\, head of the New York Mob Family. Someone is killed and no one can leave until the mystery is solved by the FBI\, all while enjoying dinner\, lots of dancing\, singing\, and drinks.\nAmerigo Vespucci\n10 Christopher Columbus Ave.\nDanbury\, CT
URL:http://archive.theatrewomen.org/event/mobs-murder-mystery-dinner-theater-by-aspendream-productions-to-benefit-amerigo-vespucci-lodge-danbury-ct/
LOCATION:10 Christopher Columbus Ave.\, Danbury\, CT\, 06810\, United States
CATEGORIES:Member News & Events
ATTACH;FMTTYPE=image/jpeg:http://archive.theatrewomen.org/wp-content/uploads/2019/02/51739699_2470787436327209_5669318700000346112_n.jpg
END:VEVENT
END:VCALENDAR