BEGIN:VCALENDAR
VERSION:2.0
PRODID:-//League of Professional Theatre Women - ECPv4.2.7//NONSGML v1.0//EN
CALSCALE:GREGORIAN
METHOD:PUBLISH
X-WR-CALNAME:League of Professional Theatre Women
X-ORIGINAL-URL:http://archive.theatrewomen.org
X-WR-CALDESC:Events for League of Professional Theatre Women
BEGIN:VEVENT
DTSTART;TZID=America/New_York:20180308T190000
DTEND;TZID=America/New_York:20180308T220000
DTSTAMP:20260421T174032
CREATED:20171229T180043
LAST-MODIFIED:20171229T180043
UID:8402-1520535600-1520546400@archive.theatrewomen.org
SUMMARY:#Metoo - Theatre Industry Submissions
DESCRIPTION:Women from the film industry\, television and radio news outlets\, politics\, and even gymnastics have raised their voices about sexual misconduct or assault in the workplace. LPTW Interim Board Member Yvette Heyliger is calling for submissions of tweets\, monologues and scenes on sexual assault or sexual misconduct within the theatre industry. A reading and talk back will be held on (or about) March 8th in recognition of International Women's Day as a sister-event with Flush Ink theatre company of Canada. The reading will be free and open to the public (no royalties); submissions up to ten minutes in length. Playwrights must secure their own director and cast; cold casting with actors in attendance also possible. Send your submissions to twinbizny@gmail.com\, no later than 5:00pm on Friday\, February 16\, 2018.
URL:http://archive.theatrewomen.org/event/metoo-theatre-industry-submissions/
LOCATION:New York\, NY\, United States
CATEGORIES:Member News & Events
ATTACH;FMTTYPE=image/jpeg:http://archive.theatrewomen.org/wp-content/uploads/2017/12/Show-Business-for-Metoo.jpg
ORGANIZER;CN="Yvette%20Heyliger":MAILTO:yvetteheyliger@gmail.com
END:VEVENT
END:VCALENDAR