BEGIN:VCALENDAR
VERSION:2.0
PRODID:-//League of Professional Theatre Women - ECPv4.2.7//NONSGML v1.0//EN
CALSCALE:GREGORIAN
METHOD:PUBLISH
X-WR-CALNAME:League of Professional Theatre Women
X-ORIGINAL-URL:http://archive.theatrewomen.org
X-WR-CALDESC:Events for League of Professional Theatre Women
BEGIN:VEVENT
DTSTART;TZID=America/New_York:20170918T190000
DTEND;TZID=America/New_York:20170918T220000
DTSTAMP:20260419T234128
CREATED:20170913T193941
LAST-MODIFIED:20170913T193941
UID:7926-1505761200-1505772000@archive.theatrewomen.org
SUMMARY:MAN & WIFE\, part of The 29th Street Playwrights Collective's New Work Series 2017
DESCRIPTION:A reading of MAN & Wife\, a full-length comedy about a BiPartisan Marriage\, for better or worse. With David Arrow and Amanda Ladd\, directed by Kim Gambino. Monday September 18th at 7pm\, at The Bernie Wohl Center (647 Columbus Ave at 91st) with food for free.
URL:http://archive.theatrewomen.org/event/man-wife-part-of-the-29th-street-playwrights-collectives-new-work-series-2017/
LOCATION:647 Columbus Ave at 91st St\, New York\, NY\, 10024\, United States
CATEGORIES:Member News & Events
ATTACH;FMTTYPE=image/png:http://archive.theatrewomen.org/wp-content/uploads/2017/09/Man-Wife-white-lettered-on-top.png
ORGANIZER;CN="29th%20Street%20Playwrights%20Collective":MAILTO:29thstplaywrightscollective@gmail.com
END:VEVENT
END:VCALENDAR