BEGIN:VCALENDAR
VERSION:2.0
PRODID:-//League of Professional Theatre Women - ECPv4.2.7//NONSGML v1.0//EN
CALSCALE:GREGORIAN
METHOD:PUBLISH
X-WR-CALNAME:League of Professional Theatre Women
X-ORIGINAL-URL:http://archive.theatrewomen.org
X-WR-CALDESC:Events for League of Professional Theatre Women
BEGIN:VEVENT
DTSTART;TZID=America/New_York:20190325T183000
DTEND;TZID=America/New_York:20190325T220000
DTSTAMP:20260420T043746
CREATED:20181108T205357
LAST-MODIFIED:20190715T204659
UID:11981-1553538600-1553551200@archive.theatrewomen.org
SUMMARY:2019 Theatre Women Awards: The Road To Parity
DESCRIPTION:On Monday\, March 25th\, the League of Professional Theatre Women presented the 2019 Theatre Women Awards at The Sheen Center.\nThe ceremony was hosted by Nancy Giles and awards were presented to Graciela Daniele (Lifetime Achievement Award)\, May Adrales (Josephine Abady Award)\, Mari Lyn Henry (LPTW Special Award)\, the founding members of The Kilroys (LPTW Lucille Lortel Visionary Award)\, Mimi Lien (Ruth Morley Award)\, Joanne Pottlitzer (LPTW Special Award)\, Natasha Sinha (LPTW Lucille Lortel Award)\, and Karen Zacarías (Lee Reynolds Award).\nThank you to our incredible awards committees for selecting this year's extraordinary awardees\, who inspired the crowd with their vital perspectives and stories. We are grateful for the dedication of the LPTW Lucille Lortel Committee (Co-Chairs Martha Steketee & Linda Chapman; Jessica Burr\, Adrienne Campbell-Holt\, Jess Chayes\, Lynette R. Freeman\, Isobel Robins Konecky\, Katherine Kovner\, Mary McGinley\, Cara Reichel\, Deborah Savadge\, Emily Simonness) and the LPTW Awards Committee (Chair Rachel Routh; Caroline Aaron\, Cesi Davidson\, Cheryl Davis\, Joan D. Firestone\, Anna Louizos\, Sheilah Rae\, Cara Reichel).\nCLICK HERE to read more about the inspiring event in an article by Times Square Chronicles.\n\n\nThe 2019 Theatre Women Awardees and presenters celebrate their theatrical achievements. Photo credit: Shoshana Medney\n\n\n\nLeague of Professional Theatre Women Co-Presidents\,\nCatherine Porter and Kelli Lynn Harrison. Photo credit: Valerie Terranova\n\n\n\n\nLPTW Lifetime Achievement Award-winner\, Graciela Daniele.\nPhoto credit: Shoshana Medney\n\n\nLPTW Special Award-winner Joanne Pottlitzer with her presenter\, LPTW Member Alexis Greene. Photo credit: Shoshana Medney\n\n\nPlaywright Karen Zacarías accepts the LPTW Lee Reynolds Award. Photo credit: Karin Shook\n\n\nLPTW Special Award-winner Mari Lyn Henry with her presenter\,\nLPTW Member Paula Ewin. Photo credit: Valerie Terranova\n\n\nJosephine Abady Award-winning Director\, May Adrales. \nPhoto credit: Valerie Terranova\n\n\nMimi Lien accepts the Ruth Morley Award from her mentor\, Christine Jones. Photo credit: Shoshana Medney\n\n\nAwards host Nancy Giles charms the audience. Photo credit: Karin Shook\n\n\nLPTW Lucille Lortel Awardee Natasha Sinha shares the evening with her parents. Photo credit: Valerie Terranova\n\n\nFounding members of The Kilroys Kelly Miller\, Joy Meads\, and Zakiyyah Alexander with their presenter and former LPTW Co-President\, Lisa Rothe. Photo credit: Valerie Terranova\n\n\nThe LPTW Board of Directors gathers to celebrate our awardees. Photo credit: Valerie Terranova\n\n\nCongratulations to all of the 2019 Theatre Women Awardees!
URL:http://archive.theatrewomen.org/event/lptwawards/
LOCATION:18 Bleecker Street \, New York \, New York \, 10012
ATTACH;FMTTYPE=image/png:http://archive.theatrewomen.org/wp-content/uploads/2018/11/Capture1.png
END:VEVENT
END:VCALENDAR