BEGIN:VCALENDAR
VERSION:2.0
PRODID:-//League of Professional Theatre Women - ECPv4.2.7//NONSGML v1.0//EN
CALSCALE:GREGORIAN
METHOD:PUBLISH
X-WR-CALNAME:League of Professional Theatre Women
X-ORIGINAL-URL:http://archive.theatrewomen.org
X-WR-CALDESC:Events for League of Professional Theatre Women
BEGIN:VEVENT
DTSTART;TZID=America/New_York:20170124T173000
DTEND;TZID=America/New_York:20170124T193000
DTSTAMP:20260421T081127
CREATED:20161221T222950
LAST-MODIFIED:20161221T222950
UID:6099-1485279000-1485286200@archive.theatrewomen.org
SUMMARY:LPTW & UK THEATRE : Meet and Greet Networking Evening
DESCRIPTION:If you're in the UK\, please join us for a networking event for women\, hosted by UK Theatre.\n\nMeet members of the League of Professional Theatre Women visiting from the USA\, and network with women working in the Theatre in the UK.\nCLICK HERE TO RSVP
URL:http://archive.theatrewomen.org/event/lptw-uk-theatre-meet-and-greet-networking-evening/
LOCATION:32 Rose Street\, Covent Garden\, London\, WC2E 9ET\, United Kingdom
GEO:51.5117371;-0.1258461
X-APPLE-STRUCTURED-LOCATION;VALUE=URI;X-ADDRESS=32 Rose Street Covent Garden London WC2E 9ET United Kingdom;X-APPLE-RADIUS=500;X-TITLE=32 Rose Street\, Covent Garden:geo:-0.1258461,51.5117371
ATTACH;FMTTYPE=image/jpeg:http://archive.theatrewomen.org/wp-content/uploads/2016/12/Capture.jpg
END:VEVENT
END:VCALENDAR